BEGIN:VCALENDAR
VERSION:2.0
PRODID:-//Drupal iCal API//EN
X-WR-CALNAME:Events items teaser
X-WR-TIMEZONE:America/Toronto
BEGIN:VTIMEZONE
TZID:America/Toronto
X-LIC-LOCATION:America/Toronto
BEGIN:DAYLIGHT
TZNAME:EDT
TZOFFSETFROM:-0500
TZOFFSETTO:-0400
DTSTART:20260308T070000
END:DAYLIGHT
BEGIN:STANDARD
TZNAME:EST
TZOFFSETFROM:-0400
TZOFFSETTO:-0500
DTSTART:20261101T060000
END:STANDARD
END:VTIMEZONE
BEGIN:VEVENT
UID:69e7fc7c22fb1
DTSTART;TZID=America/Toronto:20261206T140000
SEQUENCE:0
TRANSP:TRANSPARENT
DTEND;TZID=America/Toronto:20261206T153000
URL:https://uwaterloo.ca/theatres/events/very-sinatra-christmas
LOCATION:HH - J.G. Hagey Hall of the Humanities 200 University Avenue West 
 Waterloo ON N2L 3G1 Canada
SUMMARY:A Very Sinatra Christmas
CLASS:PUBLIC
DTSTAMP:20260421T223852Z
END:VEVENT
BEGIN:VEVENT
UID:69e7fc7c24104
DTSTART;TZID=America/Toronto:20260523T133000
SEQUENCE:0
TRANSP:TRANSPARENT
DTEND;TZID=America/Toronto:20260523T180000
URL:https://uwaterloo.ca/theatres/events/good-bad-and-beautiful
LOCATION:HH - J.G. Hagey Hall of the Humanities 200 University Avenue West 
 Waterloo ON N2L 3G1 Canada
SUMMARY:The Good\, The Bad\, and the Beautiful
CLASS:PUBLIC
DTSTAMP:20260421T223852Z
END:VEVENT
BEGIN:VEVENT
UID:69e7fc7c247b8
DTSTART;TZID=America/Toronto:20260524T133000
SEQUENCE:0
TRANSP:TRANSPARENT
DTEND;TZID=America/Toronto:20260524T180000
URL:https://uwaterloo.ca/theatres/events/good-bad-and-beautiful
LOCATION:HH - J.G. Hagey Hall of the Humanities 200 University Avenue West 
 Waterloo ON N2L 3G1 Canada
SUMMARY:The Good\, The Bad\, and the Beautiful
CLASS:PUBLIC
DTSTAMP:20260421T223852Z
END:VEVENT
BEGIN:VEVENT
UID:69e7fc7c24d72
DTSTART;TZID=America/Toronto:20260522T183000
SEQUENCE:0
TRANSP:TRANSPARENT
DTEND;TZID=America/Toronto:20260522T203000
URL:https://uwaterloo.ca/theatres/events/rewind-remix
LOCATION:HH - J.G. Hagey Hall of the Humanities 200 University Avenue West 
 Waterloo ON N2L 3G1 Canada
SUMMARY:Rewind &amp; Remix
CLASS:PUBLIC
DTSTAMP:20260421T223852Z
END:VEVENT
BEGIN:VEVENT
UID:69e7fc7c2567c
DTSTART;TZID=America/Toronto:20260505T180000
SEQUENCE:0
TRANSP:TRANSPARENT
DTEND;TZID=America/Toronto:20260505T210000
URL:https://uwaterloo.ca/theatres/events/centre-stage-dance-lets-celebrate
LOCATION:HH - J.G. Hagey Hall of the Humanities 200 University Avenue West 
 Waterloo ON N2L 3G1 Canada
SUMMARY:Centre Stage Dance: Let's Celebrate!
CLASS:PUBLIC
DTSTAMP:20260421T223852Z
END:VEVENT
BEGIN:VEVENT
UID:69e7fc7c25eff
DTSTART;TZID=America/Toronto:20260506T180000
SEQUENCE:0
TRANSP:TRANSPARENT
DTEND;TZID=America/Toronto:20260506T210000
URL:https://uwaterloo.ca/theatres/events/centre-stage-dance-lets-celebrate
LOCATION:HH - J.G. Hagey Hall of the Humanities 200 University Avenue West 
 Waterloo ON N2L 3G1 Canada
SUMMARY:Centre Stage Dance: Let's Celebrate!
CLASS:PUBLIC
DTSTAMP:20260421T223852Z
END:VEVENT
BEGIN:VEVENT
UID:69e7fc7c2657b
DTSTART;TZID=America/Toronto:20260501T183000
SEQUENCE:0
TRANSP:TRANSPARENT
DTEND;TZID=America/Toronto:20260501T220000
URL:https://uwaterloo.ca/theatres/events/carousel-dance-centre-spring-perfo
 rmance-2026
LOCATION:HH - J.G. Hagey Hall of the Humanities 200 University Avenue West 
 Waterloo ON N2L 3G1 Canada
SUMMARY:Carousel Dance Centre Spring Performance 2026
CLASS:PUBLIC
DTSTAMP:20260421T223852Z
END:VEVENT
BEGIN:VEVENT
UID:69e7fc7c26dc3
DTSTART;TZID=America/Toronto:20260502T110000
SEQUENCE:0
TRANSP:TRANSPARENT
DTEND;TZID=America/Toronto:20260502T143000
URL:https://uwaterloo.ca/theatres/events/carousel-dance-centre-spring-perfo
 rmance-2026
LOCATION:HH - J.G. Hagey Hall of the Humanities 200 University Avenue West 
 Waterloo ON N2L 3G1 Canada
SUMMARY:Carousel Dance Centre Spring Performance 2026
CLASS:PUBLIC
DTSTAMP:20260421T223852Z
END:VEVENT
BEGIN:VEVENT
UID:69e7fc7c27305
DTSTART;TZID=America/Toronto:20260502T183000
SEQUENCE:0
TRANSP:TRANSPARENT
DTEND;TZID=America/Toronto:20260502T220000
URL:https://uwaterloo.ca/theatres/events/carousel-dance-centre-spring-perfo
 rmance-2026
LOCATION:HH - J.G. Hagey Hall of the Humanities 200 University Avenue West 
 Waterloo ON N2L 3G1 Canada
SUMMARY:Carousel Dance Centre Spring Performance 2026
CLASS:PUBLIC
DTSTAMP:20260421T223852Z
END:VEVENT
BEGIN:VEVENT
UID:69e7fc7c278e0
DTSTART;TZID=America/Toronto:20260328T170000
SEQUENCE:0
TRANSP:TRANSPARENT
DTEND;TZID=America/Toronto:20260328T200000
URL:https://uwaterloo.ca/theatres/events/beyond-movement
LOCATION:HH - J.G. Hagey Hall of the Humanities 200 University Avenue West 
 Waterloo ON N2L 3G1 Canada
SUMMARY:Beyond the Movement
CLASS:PUBLIC
DTSTAMP:20260421T223852Z
END:VEVENT
BEGIN:VEVENT
UID:69e7fc7c28085
DTSTART;TZID=America/Toronto:20260404T190000
SEQUENCE:0
TRANSP:TRANSPARENT
DTEND;TZID=America/Toronto:20260404T220000
URL:https://uwaterloo.ca/theatres/events/momentum
LOCATION:HH - J.G. Hagey Hall of the Humanities 200 University Avenue West 
 Waterloo ON N2L 3G1 Canada
SUMMARY:Momentum
CLASS:PUBLIC
DTSTAMP:20260421T223852Z
END:VEVENT
BEGIN:VEVENT
UID:69e7fc7c288d3
DTSTART;TZID=America/Toronto:20260401T190000
SEQUENCE:0
TRANSP:TRANSPARENT
DTEND;TZID=America/Toronto:20260401T220000
URL:https://uwaterloo.ca/theatres/events/winter-2026-cappella-end-term-conc
 ert
LOCATION:HH - J.G. Hagey Hall of the Humanities 200 University Avenue West 
 Waterloo ON N2L 3G1 Canada
SUMMARY:Winter 2026 A Cappella End of Term Concert
CLASS:PUBLIC
DTSTAMP:20260421T223852Z
END:VEVENT
BEGIN:VEVENT
UID:69e7fc7c29165
DTSTART;TZID=America/Toronto:20260402T190000
SEQUENCE:0
TRANSP:TRANSPARENT
DTEND;TZID=America/Toronto:20260402T220000
URL:https://uwaterloo.ca/theatres/events/winter-2026-cappella-end-term-conc
 ert
LOCATION:HH - J.G. Hagey Hall of the Humanities 200 University Avenue West 
 Waterloo ON N2L 3G1 Canada
SUMMARY:Winter 2026 A Cappella End of Term Concert
CLASS:PUBLIC
DTSTAMP:20260421T223852Z
END:VEVENT
BEGIN:VEVENT
UID:69e7fc7c29704
DTSTART;TZID=America/Toronto:20260321T150000
SEQUENCE:0
TRANSP:TRANSPARENT
DTEND;TZID=America/Toronto:20260321T171500
URL:https://uwaterloo.ca/theatres/events/through-pages
LOCATION:HH - J.G. Hagey Hall of the Humanities 200 University Avenue West 
 Waterloo ON N2L 3G1 Canada
SUMMARY:Through the Pages
CLASS:PUBLIC
DTSTAMP:20260421T223852Z
END:VEVENT
BEGIN:VEVENT
UID:69e7fc7c29f5a
DTSTART;TZID=America/Toronto:20260326T180000
SEQUENCE:0
TRANSP:TRANSPARENT
DTEND;TZID=America/Toronto:20260326T202000
URL:https://uwaterloo.ca/theatres/events/debut-v
LOCATION:HH - J.G. Hagey Hall of the Humanities 200 University Avenue West 
 Waterloo ON N2L 3G1 Canada
SUMMARY:The Debut: V
CLASS:PUBLIC
DTSTAMP:20260421T223852Z
END:VEVENT
END:VCALENDAR