BEGIN:VCALENDAR
VERSION:2.0
PRODID:-//Drupal iCal API//EN
X-WR-CALNAME:Events items teaser
X-WR-TIMEZONE:America/Toronto
BEGIN:VTIMEZONE
TZID:America/Toronto
X-LIC-LOCATION:America/Toronto
BEGIN:DAYLIGHT
TZNAME:EDT
TZOFFSETFROM:-0500
TZOFFSETTO:-0400
DTSTART:20230312T070000
END:DAYLIGHT
BEGIN:STANDARD
TZNAME:EST
TZOFFSETFROM:-0400
TZOFFSETTO:-0500
DTSTART:20231105T060000
END:STANDARD
END:VTIMEZONE
BEGIN:VEVENT
UID:69e14da20745c
DTSTART;TZID=America/Toronto:20240208T150000
SEQUENCE:0
TRANSP:TRANSPARENT
DTEND;TZID=America/Toronto:20240208T162000
URL:https://uwaterloo.ca/tri-university-history-graduate-program/events/ind
 igenous-speakers-series-waterloo-presents-chelsea-vowel
LOCATION:ML - Modern Languages 200 University Avenue West Waterloo ON N2L 3
 G1 Canada
SUMMARY:Indigenous Speakers Series (Waterloo) presents Chelsea Vowel
CLASS:PUBLIC
DESCRIPTION:Chelsea Vowel's engaging presentation \"âniskôhôcikan\, Like
  a String\nof Beads: Indigenous Futurisms\,\" will be presented on Februar
 y 8 in\nperson or through MS Teams\n[https://teams.microsoft.com/l/meetup-
 join/19%3Ameeting_MmVlZjdmZDItNWI1Mi00ZThmLThhM2EtNTBlY2VhZDZiYjUw%40threa
 d.v2/0?context={%22Tid%22%3A%22723a5a87-f39a-4a22-9247-3fc240c01396%22%2C%
 22Oid%22%3A%220a184ccd-04aa-4abd-aca2-d4d1c9b052f8%22%2C%22IsBroadcastMeet
 ing%22%3Atrue%2C%22role%22%3A%22a%22}&amp;btype=a&amp;role=a].\nIndigenous futuris
 ms\, a term coined by Grace Dillon and indebted to\nAfrofuturism\, seeks t
 o describe a movement of art\, literature\, games\,\nand other forms of me
 dia that express Indigenous perspectives on the\nfuture\, present\, and pa
 st.
DTSTAMP:20260416T205914Z
END:VEVENT
END:VCALENDAR