BEGIN:VCALENDAR
VERSION:2.0
PRODID:-//Drupal iCal API//EN
X-WR-CALNAME:Events items teaser
X-WR-TIMEZONE:America/Toronto
BEGIN:VTIMEZONE
TZID:America/Toronto
X-LIC-LOCATION:America/Toronto
BEGIN:DAYLIGHT
TZNAME:EDT
TZOFFSETFROM:-0500
TZOFFSETTO:-0400
DTSTART:20250309T070000
END:DAYLIGHT
BEGIN:STANDARD
TZNAME:EST
TZOFFSETFROM:-0400
TZOFFSETTO:-0500
DTSTART:20241103T060000
END:STANDARD
END:VTIMEZONE
BEGIN:VEVENT
UID:69e2a71455125
DTSTART;TZID=America/Toronto:20250320T193000
SEQUENCE:0
TRANSP:TRANSPARENT
DTEND;TZID=America/Toronto:20250320T210000
URL:https://uwaterloo.ca/tri-university-history-graduate-program/events/liv
 ing-borrowed-time-settlement-mennonites-imperial-russia
LOCATION:CGR - Conrad Grebel University 140 Westmount Road North Waterloo O
 N N2L 3G6 Canada
SUMMARY:Living on Borrowed Time? The Settlement of Mennonites in Imperial\n
 Russia after 1789
CLASS:PUBLIC
DESCRIPTION:Wilfrid Laurier University professor\, Leonard Friesen presents
  the\nfirst lecture in a series celebrating the publication of his\nbook\,
  _Mennonites in the Russian Empire and the Soviet Union: Through\nMuch Tr
 ibulation_ (University of Toronto Press\, 2022). Sponsored by\nthe Insti
 tute of Anabaptist and Mennonite Studies\n[https://uwaterloo.ca/grebel/aca
 demics/continuing/institute-anabaptist-and-mennonite-studies].\nConsider a
 ttending the second lecture.\n[/tri-university-history-graduate-program/ev
 ents/more-victims-soviet-mennonites-stalin-gorbachev]
DTSTAMP:20260417T213308Z
END:VEVENT
END:VCALENDAR