BEGIN:VCALENDAR
VERSION:2.0
PRODID:-//Drupal iCal API//EN
X-WR-CALNAME:Events items teaser
X-WR-TIMEZONE:America/Toronto
BEGIN:VTIMEZONE
TZID:America/Toronto
X-LIC-LOCATION:America/Toronto
BEGIN:DAYLIGHT
TZNAME:EDT
TZOFFSETFROM:-0500
TZOFFSETTO:-0400
DTSTART:20250309T070000
END:DAYLIGHT
BEGIN:STANDARD
TZNAME:EST
TZOFFSETFROM:-0400
TZOFFSETTO:-0500
DTSTART:20241103T060000
END:STANDARD
END:VTIMEZONE
BEGIN:VEVENT
UID:69e2418b3c7c6
DTSTART;TZID=America/Toronto:20250321T193000
SEQUENCE:0
TRANSP:TRANSPARENT
DTEND;TZID=America/Toronto:20250321T210000
URL:https://uwaterloo.ca/tri-university-history-graduate-program/events/mor
 e-victims-soviet-mennonites-stalin-gorbachev
LOCATION:CGR - Conrad Grebel University 140 Westmount Road North Waterloo O
 N N2L 3G6 Canada
SUMMARY:More than Victims: Soviet Mennonites from Stalin to Gorbachev
CLASS:PUBLIC
DESCRIPTION:Wilfrid Laurier University professor\, Leonard Friesen presents
  a\nspecial lecture series celebrating the publication of his\nbook\, _Me
 nnonites in the Russian Empire and the Soviet Union: Through\nMuch Tribula
 tion_ (University of Toronto Press\, 2022). Sponsored by\nthe Institute 
 of Anabaptist and Mennonite Studies\n[https://uwaterloo.ca/grebel/academic
 s/continuing/institute-anabaptist-and-mennonite-studies]. This\nis the se
 cond in the series. Consider attending the first lecture\n[/tri-university
 -history-graduate-program/events/living-borrowed-time-settlement-mennonite
 s-imperial-russia].
DTSTAMP:20260417T141955Z
END:VEVENT
END:VCALENDAR