BEGIN:VCALENDAR
VERSION:2.0
PRODID:-//Drupal iCal API//EN
X-WR-CALNAME:Events items teaser
X-WR-TIMEZONE:America/Toronto
BEGIN:VTIMEZONE
TZID:America/Toronto
X-LIC-LOCATION:America/Toronto
BEGIN:DAYLIGHT
TZNAME:EDT
TZOFFSETFROM:-0500
TZOFFSETTO:-0400
DTSTART:20240310T070000
END:DAYLIGHT
BEGIN:STANDARD
TZNAME:EST
TZOFFSETFROM:-0400
TZOFFSETTO:-0500
DTSTART:20241103T060000
END:STANDARD
END:VTIMEZONE
BEGIN:VEVENT
UID:69e126190ae91
DTSTART;VALUE=DATE:20250224
SEQUENCE:0
TRANSP:TRANSPARENT
DTEND;VALUE=DATE:20250225
URL:https://uwaterloo.ca/tri-university-history-graduate-program/events/pos
 ition-rural-history
SUMMARY:Applications due for position in Rural North American History
CLASS:PUBLIC
DESCRIPTION:The History Department at the University of Guelph is delighted
  to\nannounce a search for a tenure-track assistant professor position in\
 nRural North American history\n[https://careers.uoguelph.ca/job/Guelph-Ass
 istant-Professor-in-Rural-North-American-History-ON-N1G-2W1/729318347/].
X-MICROSOFT-CDO-ALLDAYEVENT:TRUE
DTSTAMP:20260416T181033Z
END:VEVENT
END:VCALENDAR