BEGIN:VCALENDAR
VERSION:2.0
PRODID:-//Drupal iCal API//EN
X-WR-CALNAME:Events items teaser
X-WR-TIMEZONE:America/Toronto
BEGIN:VTIMEZONE
TZID:America/Toronto
X-LIC-LOCATION:America/Toronto
BEGIN:DAYLIGHT
TZNAME:EDT
TZOFFSETFROM:-0500
TZOFFSETTO:-0400
DTSTART:20250309T070000
END:DAYLIGHT
BEGIN:STANDARD
TZNAME:EST
TZOFFSETFROM:-0400
TZOFFSETTO:-0500
DTSTART:20241103T060000
END:STANDARD
END:VTIMEZONE
BEGIN:VEVENT
UID:69e814ad540ac
DTSTART;TZID=America/Toronto:20250310T190000
SEQUENCE:0
TRANSP:TRANSPARENT
DTEND;TZID=America/Toronto:20250310T203000
URL:https://uwaterloo.ca/tri-university-history-graduate-program/events/can
 ada-51st-state-norman-hillmer
LOCATION:Laurier Centre for the Study of Canada 232 King Street North Water
 loo ON N2J 2Y7 Canada
SUMMARY:Canada as the 51st State? With Norman Hillmer
CLASS:PUBLIC
DESCRIPTION:Donald Trump wants Canada to be his 51st State. He isn’t the 
 first\nAmerican leader to think that way\, and he won’t be the last. At 
 the\nLaurier Centre for the Study of Canada (LCSC)\n[https://studyofcanada
 .ca/]\, Norman Hillmer\, a leading historian of\nthe Canadian-American rel
 ationship\, reflects on how Canada resisted\nthe United States in the past
 \, and he asks whether and how much\npresent challenges are different from
  yesterday’s.
DTSTAMP:20260422T002205Z
END:VEVENT
END:VCALENDAR