BEGIN:VCALENDAR
VERSION:2.0
PRODID:-//Drupal iCal API//EN
X-WR-CALNAME:Events items teaser
X-WR-TIMEZONE:America/Toronto
BEGIN:VTIMEZONE
TZID:America/Toronto
X-LIC-LOCATION:America/Toronto
BEGIN:DAYLIGHT
TZNAME:EDT
TZOFFSETFROM:-0500
TZOFFSETTO:-0400
DTSTART:20250309T070000
END:DAYLIGHT
BEGIN:STANDARD
TZNAME:EST
TZOFFSETFROM:-0400
TZOFFSETTO:-0500
DTSTART:20241103T060000
END:STANDARD
END:VTIMEZONE
BEGIN:VEVENT
UID:69e773a7280a7
DTSTART;TZID=America/Toronto:20250326T190000
SEQUENCE:0
TRANSP:TRANSPARENT
DTEND;TZID=America/Toronto:20250326T203000
URL:https://uwaterloo.ca/tri-university-history-graduate-program/events/sle
 eping-next-elephant
SUMMARY:\"Like sleeping next to an elephant.\"
CLASS:PUBLIC
DESCRIPTION:On March 26 at 7PM\, Laurier Brantford's History program presen
 ts its\nbiannual People Make History event\, featuring a panel discussion 
 on\nhistorical Canadian-American relations and contemporary links with Dr.
 \nLara Campbell\, Dr. Tim Cook\, and Dr. Asa McKercher.
DTSTAMP:20260421T125503Z
END:VEVENT
END:VCALENDAR