BEGIN:VCALENDAR
VERSION:2.0
PRODID:-//Drupal iCal API//EN
X-WR-CALNAME:Events items teaser
X-WR-TIMEZONE:America/Toronto
BEGIN:VTIMEZONE
TZID:America/Toronto
X-LIC-LOCATION:America/Toronto
BEGIN:DAYLIGHT
TZNAME:EDT
TZOFFSETFROM:-0500
TZOFFSETTO:-0400
DTSTART:20250309T070000
END:DAYLIGHT
BEGIN:STANDARD
TZNAME:EST
TZOFFSETFROM:-0400
TZOFFSETTO:-0500
DTSTART:20241103T060000
END:STANDARD
END:VTIMEZONE
BEGIN:VEVENT
UID:69e67c15047c9
DTSTART;TZID=America/Toronto:20250424T063000
SEQUENCE:0
TRANSP:TRANSPARENT
DTEND;TZID=America/Toronto:20250424T213000
URL:https://uwaterloo.ca/tri-university-history-graduate-program/events/way
 s-we-remember-war-second-battle-ypres-and-canadas-memory
LOCATION:Guelph Civic Museum 52 Norfolk Street Guelph ON N1H 4H8 Canada
SUMMARY:Ways We Remember War: The Second Battle of Ypres and Canada's Memor
 y
CLASS:PUBLIC
DESCRIPTION:Dr. Geoff Bird presents his new film\, WAYS WE REMEMBER WAR: TH
 E BATTLE\nOF SECOND YPRES AND CANADA’S MEMORY\, exploring how art\, memo
 rials\nand pilgrimage shape our understanding of Canada’s first battle o
 f\nthe First World War.  Lt. Col. John McCrae is represented in the\nfilm
 \, along with artwork from the Canada War Museum\, the Brooding\nSoldier i
 n Belgium\, and the landscape of war in Flanders.
DTSTAMP:20260420T191845Z
END:VEVENT
END:VCALENDAR