BEGIN:VCALENDAR
VERSION:2.0
PRODID:-//Drupal iCal API//EN
X-WR-CALNAME:Events items teaser
X-WR-TIMEZONE:America/Toronto
BEGIN:VTIMEZONE
TZID:America/Toronto
X-LIC-LOCATION:America/Toronto
BEGIN:DAYLIGHT
TZNAME:EDT
TZOFFSETFROM:-0500
TZOFFSETTO:-0400
DTSTART:20250309T070000
END:DAYLIGHT
BEGIN:STANDARD
TZNAME:EST
TZOFFSETFROM:-0400
TZOFFSETTO:-0500
DTSTART:20251102T060000
END:STANDARD
END:VTIMEZONE
BEGIN:VEVENT
UID:69e76f2b06ed2
DTSTART;TZID=America/Toronto:20251202T150000
SEQUENCE:0
TRANSP:TRANSPARENT
DTEND;TZID=America/Toronto:20251202T161500
URL:https://uwaterloo.ca/tri-university-history-graduate-program/events/wat
 erloo-indigenous-speaker-mary-spencer
LOCATION:ML - Modern Languages 200 University Avenue West Waterloo ON N2L 3
 G1 Canada
SUMMARY:University of Waterloo's Indigenous Speakers Series presents Mary\n
 Spencer
CLASS:PUBLIC
DESCRIPTION:The Indigenous Speakers Series\n[https://uwaterloo.ca/arts/abou
 t/indigenous-speakers-series] at the\nUniversity of Waterloo presents Mar
 y Spencer\, member of the Chippewas\nof Nawash First Nation and former WB
 A super welterweight world\nchampion.\n\nMary held the WBA super welterwei
 ght world championship professional\nboxing title for the past year. She b
 oxes out of Montreal\, Quebec.\nSpencer grew up in Windsor\, Ontario\, and
  started boxing at the age of\n17. She spent 10 years on the Canadian Boxi
 ng Team where she won three\nworld titles as well as the PanAm Games\, and
  in 2012 she became the\nfirst woman to represent Canada in Olympic boxing
 .\n\nSpencer's talk will be followed by a Q&amp;A moderated by Dale Bellaire\,
  a\nPhD student in the Faculty of Health.\n\nThe event is offered in perso
 n and online. Registration is appreciated\nbut not required\n[https://uwat
 erloo.ca/arts/events/indigenous-speakers-series-presents-mary-spencer].
DTSTAMP:20260421T123555Z
END:VEVENT
END:VCALENDAR