BEGIN:VCALENDAR
VERSION:2.0
PRODID:-//Drupal iCal API//EN
X-WR-CALNAME:Events items teaser
X-WR-TIMEZONE:America/Toronto
BEGIN:VTIMEZONE
TZID:America/Toronto
X-LIC-LOCATION:America/Toronto
BEGIN:DAYLIGHT
TZNAME:EDT
TZOFFSETFROM:-0500
TZOFFSETTO:-0400
DTSTART:20260308T070000
END:DAYLIGHT
BEGIN:STANDARD
TZNAME:EST
TZOFFSETFROM:-0400
TZOFFSETTO:-0500
DTSTART:20251102T060000
END:STANDARD
END:VTIMEZONE
BEGIN:VEVENT
UID:69e7fc4cb62e0
DTSTART;TZID=America/Toronto:20260325T160000
SEQUENCE:0
TRANSP:TRANSPARENT
DTEND;TZID=America/Toronto:20260325T173000
URL:https://uwaterloo.ca/united-college/events/36th-social-impact-showcase
LOCATION:STP - United College 190 Westmount Road North Waterloo ON N2L 3G5 
 Canada
SUMMARY:36th Social Impact Showcase
CLASS:PUBLIC
DESCRIPTION:Each term\, GreenHouse hosts the Social Impact Showcase to cele
 brate\nthe achievements of our students and award grants from the Social\n
 Impact Fund. Students\, faculty and staff\, and community members are\nall
  welcome to attend. The students will be competing for two $3\,000\nand tw
 o $1\,500 grants to grow their social and/or environmental impact\ninitiat
 ives.\n\nWe are excited and proud to be hosting the 36th Social Impact\nSh
 owcase. Join us in celebrating youth-led social innovation\,\nentrepreneur
 ship and impact on Wednesday\, March 25th | 4:00-5:30 p.m.\nat United Coll
 ege (Alumni Hall). The Showcase creates a unique and\nvaluable opportunity
  for our students to connect with community\nmembers who may support them 
 on their journey in refining their ideas.\n \n\nRSVP Today!\n[https://air
 table.com/appvg308eEaXl7sSQ/pagR6yeA7rUeENybZ/form]
DTSTAMP:20260421T223804Z
END:VEVENT
END:VCALENDAR