BEGIN:VCALENDAR
VERSION:2.0
PRODID:-//Drupal iCal API//EN
X-WR-CALNAME:Events items teaser
X-WR-TIMEZONE:America/Toronto
BEGIN:VTIMEZONE
TZID:America/Toronto
X-LIC-LOCATION:America/Toronto
BEGIN:DAYLIGHT
TZNAME:EDT
TZOFFSETFROM:-0500
TZOFFSETTO:-0400
DTSTART:20240310T070000
END:DAYLIGHT
BEGIN:STANDARD
TZNAME:EST
TZOFFSETFROM:-0400
TZOFFSETTO:-0500
DTSTART:20241103T060000
END:STANDARD
END:VTIMEZONE
BEGIN:VEVENT
UID:69e6ba61201b3
DTSTART;TZID=America/Toronto:20250129T120000
SEQUENCE:0
TRANSP:TRANSPARENT
DTEND;TZID=America/Toronto:20250129T130000
URL:https://uwaterloo.ca/united-college/events/transitional-justice-colombi
 a-and-canada-yintah-wetsuweten
LOCATION:STP - United College 190 Westmount Road North Waterloo ON N2L 3G5 
 Canada
SUMMARY:Transitional Justice: Colombia and Canada // Yintah: Wet’suwet’
 en\nwomen leading the defence of rights
CLASS:PUBLIC
DESCRIPTION:The HUMAN RIGHTS PROGRAM of United College at UW invites you to
 :\n\nEvent 1: 12:20 - 2:20 p.m. - TRANSITIONAL JUSTICE AND HUMAN RIGHTS: A
 \nDIALOGUE BETWEEN COLOMBIA AND CANADA.\n\nEvent 2: 5:30 - 8:30 p.m. - YIN
 TAH: WET’SUWET’EN WOMEN LEADING THE\nDEFENCE OF DIGNITY\, TERRITORY AN
 D RIGHTS (Yintah documentary and\nconversation).
DTSTAMP:20260420T234433Z
END:VEVENT
END:VCALENDAR