BEGIN:VCALENDAR
VERSION:2.0
PRODID:-//Drupal iCal API//EN
X-WR-CALNAME:Events items teaser
X-WR-TIMEZONE:America/Toronto
BEGIN:VTIMEZONE
TZID:America/Toronto
X-LIC-LOCATION:America/Toronto
BEGIN:DAYLIGHT
TZNAME:EDT
TZOFFSETFROM:-0500
TZOFFSETTO:-0400
DTSTART:20220313T070000
END:DAYLIGHT
BEGIN:STANDARD
TZNAME:EST
TZOFFSETFROM:-0400
TZOFFSETTO:-0500
DTSTART:20211107T060000
END:STANDARD
END:VTIMEZONE
BEGIN:VEVENT
UID:69e44a39f1c00
DTSTART;TZID=America/Toronto:20220606T133000
SEQUENCE:0
TRANSP:TRANSPARENT
DTEND;TZID=America/Toronto:20220606T143000
URL:https://uwaterloo.ca/urban-engineering-cities/events/engineer-residence
 -meet-and-greet
LOCATION:E2 - Engineering 2 200 University Avenue West 2351 Waterloo ON N2L
  3G1 Canada
SUMMARY:Engineer-in-Residence Meet and Greet
CLASS:PUBLIC
DESCRIPTION:Come join us for a casual meet and greet with the 2022 Douglas 
 Wright\nEngineer-in-Residence Kealy Dedman\, Commissioner of Public Works 
 at\nPeel Region\n\nWho: All faculty\, students\, and staff welcome\n\nWhen
 : Monday\, June 6th\, 1:30 - 2:30 pm\n\nWhere: Faculty Lounge\, E2 2351\n\
 nRegister here\n[https://www.eventbrite.com/e/engineer-in-residence-meet-a
 nd-greet-tickets-353782181027].
DTSTAMP:20260419T032130Z
END:VEVENT
END:VCALENDAR