BEGIN:VCALENDAR
VERSION:2.0
PRODID:-//Drupal iCal API//EN
X-WR-CALNAME:Events items teaser
X-WR-TIMEZONE:America/Toronto
BEGIN:VTIMEZONE
TZID:America/Toronto
X-LIC-LOCATION:America/Toronto
BEGIN:DAYLIGHT
TZNAME:EDT
TZOFFSETFROM:-0500
TZOFFSETTO:-0400
DTSTART:20220313T070000
END:DAYLIGHT
BEGIN:DAYLIGHT
TZNAME:EDT
TZOFFSETFROM:-0500
TZOFFSETTO:-0400
DTSTART:20200308T070000
END:DAYLIGHT
BEGIN:STANDARD
TZNAME:EST
TZOFFSETFROM:-0400
TZOFFSETTO:-0500
DTSTART:20221106T060000
END:STANDARD
BEGIN:STANDARD
TZNAME:EST
TZOFFSETFROM:-0400
TZOFFSETTO:-0500
DTSTART:20201101T060000
END:STANDARD
END:VTIMEZONE
BEGIN:VEVENT
UID:69e053a6c6ee8
DTSTART;TZID=America/Toronto:20221109T120000
SEQUENCE:0
TRANSP:TRANSPARENT
DTEND;TZID=America/Toronto:20221109T140000
URL:https://uwaterloo.ca/water-economics-research-group/events/learning-abo
 ut-water-values-through-behaviour
SUMMARY:Learning about water values through behaviour
CLASS:PUBLIC
DESCRIPTION:LEARNING ABOUT WATER VALUES THROUGH BEHAVIOUR\n\nNovember 9\, 2
 022 - 12:00 p.m. EST.\nPatrick Lloyd-Smith\, Professor\, College of Agri
 culture and\nBioresources\, University of Saskatchewan
DTSTAMP:20260416T031238Z
END:VEVENT
BEGIN:VEVENT
UID:69e053a6e91f3
DTSTART;TZID=America/Toronto:20220803T120000
SEQUENCE:0
TRANSP:TRANSPARENT
DTEND;TZID=America/Toronto:20220803T140000
URL:https://uwaterloo.ca/water-economics-research-group/events/insights-soc
 ial-and-cultural-values-water-community-engaged
SUMMARY:Insights into social and cultural values for water from community\n
 engaged research
CLASS:PUBLIC
DESCRIPTION:As part of the Water Institute's Webinar Series: The Value of 
 Water\nin Canada Lori Bradford\, Professor\, School of Environment and\n
 Sustainability\, University of Saskatchewan presents Insights into\nsocia
 l and cultural values for water from community engaged research.
DTSTAMP:20260416T031238Z
END:VEVENT
BEGIN:VEVENT
UID:69e053a6eac7d
DTSTART;TZID=America/Toronto:20220413T120000
SEQUENCE:0
TRANSP:TRANSPARENT
DTEND;TZID=America/Toronto:20220413T140000
URL:https://uwaterloo.ca/water-economics-research-group/events/measuring-qu
 ebecers-preferences-surface-water-quality
SUMMARY:Measuring Quebecers' preferences for surface water quality
CLASS:PUBLIC
DESCRIPTION:MEASURING QUEBECERS' PREFERENCES FOR SURFACE WATER QUALITY\n\nA
 PRIL 13\, 2022 - 12:00 p.m. EST.\nJIE HE\, Professor\, Department of Eco
 nomics\, Université de Sherbrooke
DTSTAMP:20260416T031238Z
END:VEVENT
BEGIN:VEVENT
UID:69e053a6ecec8
DTSTART;TZID=America/Toronto:20201210T140000
SEQUENCE:0
TRANSP:TRANSPARENT
DTEND;TZID=America/Toronto:20201210T160000
URL:https://uwaterloo.ca/water-economics-research-group/events/watertalk-pl
 anetary-boundaries-ecosystem-services-guiding
SUMMARY:WaterTalk: From planetary boundaries to ecosystem services: guiding
 \ndevelopment on a changing planet
CLASS:PUBLIC
DESCRIPTION:As part of the Water Institute's WaterTalks lecture series\, 
 Elena\nBennett\, professor and Canada Research Chair (Tier 1) in\nSustaina
 bility Science at McGill University\, presents\, \"_From\nplanetary bounda
 ries to ecosystem services: Guiding development on a\nchanging planet_.\"
DTSTAMP:20260416T031238Z
END:VEVENT
BEGIN:VEVENT
UID:69e053a6ee278
DTSTART;TZID=America/Toronto:20201117T120000
SEQUENCE:0
TRANSP:TRANSPARENT
DTEND;TZID=America/Toronto:20201117T140000
URL:https://uwaterloo.ca/water-economics-research-group/events/waterleaders
 hip-get-published-tips-editors-chief-live
SUMMARY:WaterLeadership: Get Published: Tips from Editors-in-Chief (Live\nW
 ebinar)
CLASS:PUBLIC
DESCRIPTION:As part of the Water Institute's WaterLeadership training seri
 es\,\nNancy Goucher\, Knowledge Mobilization Specialist at the Water\nInst
 itute\, presents\, \"Get Published: Tips from Editors-in-Chief (Live\nWeb
 inar).\"
DTSTAMP:20260416T031238Z
END:VEVENT
BEGIN:VEVENT
UID:69e053a6ef2cb
DTSTART;TZID=America/Toronto:20201105T140000
SEQUENCE:0
TRANSP:TRANSPARENT
DTEND;TZID=America/Toronto:20201105T160000
URL:https://uwaterloo.ca/water-economics-research-group/events/watertalk-go
 od-geoscience-dire-places-searching-water
SUMMARY:WaterTalk: Good Geoscience in Dire Places: Searching for Water in\n
 Humanitarian Crises
CLASS:PUBLIC
DESCRIPTION:As part of the Water Institute's WaterTalks lecture series\, t
 he Water\nInstitute\, in collaboration with Waterloo's Department of Eart
 h and\nEnvironmental Sciences\, is pleased to co-host the 2020-21 Canadia
 n\nSociety of Exploration Geophysicists (CSEG) Distinguished Lecturer\,\n
 Paul Bauman\, who will present \"Good Geoscience in Dire\nPlaces: Searchi
 ng for Water in Humanitarian Crises.\"
DTSTAMP:20260416T031238Z
END:VEVENT
BEGIN:VEVENT
UID:69e053a6f0624
DTSTART;TZID=America/Toronto:20201103T130000
SEQUENCE:0
TRANSP:TRANSPARENT
DTEND;TZID=America/Toronto:20201103T150000
URL:https://uwaterloo.ca/water-economics-research-group/events/waterleaders
 hip-develop-knowledge-mobilization-plan-your
SUMMARY:WaterLeadership: Develop a Knowledge Mobilization Plan for Your Gra
 nt\nProposals (Q&amp;A with Nancy Goucher)
CLASS:PUBLIC
DESCRIPTION:As part of the Water Institute's WaterLeadership training seri
 es\,\nNancy Goucher\, Knowledge Mobilization Specialist at the Water\nInst
 itute\, presents\, \"Develop a Knowledge Mobilization Plan for Your\nGrant
  Proposals.\"
DTSTAMP:20260416T031238Z
END:VEVENT
END:VCALENDAR