BEGIN:VCALENDAR
VERSION:2.0
PRODID:-//Drupal iCal API//EN
X-WR-CALNAME:Events items teaser
X-WR-TIMEZONE:America/Toronto
BEGIN:VTIMEZONE
TZID:America/Toronto
X-LIC-LOCATION:America/Toronto
BEGIN:DAYLIGHT
TZNAME:EDT
TZOFFSETFROM:-0500
TZOFFSETTO:-0400
DTSTART:20230312T070000
END:DAYLIGHT
BEGIN:STANDARD
TZNAME:EST
TZOFFSETFROM:-0400
TZOFFSETTO:-0500
DTSTART:20221106T060000
END:STANDARD
END:VTIMEZONE
BEGIN:VEVENT
UID:69b649022b771
DTSTART;TZID=America/Toronto:20230619T090000
SEQUENCE:0
TRANSP:TRANSPARENT
DTEND;TZID=America/Toronto:20230623T100000
URL:https://uwaterloo.ca/water-energy-security-changing-climate/events/modu
 le-3-climate-change-and-energy-security
SUMMARY:Module 3: Climate change and energy security
CLASS:PUBLIC
DESCRIPTION:MONDAY\, JUNE 19\, 9:00 A.M. ET\nRebecca Saari: The impacts of
  climate change and climate policy on\nhuman health and environmental ineq
 uality\n\nTUESDAY\, JUNE 20\, 9:00 A.M. ET\nKomal Habib: Future clean ener
 gy solutions and circular economy\n\nWEDNESDAY\, JUNE 21\, 9:00 A.M. ET\nA
 ngela Carter: The future of climate policy: Saying the “f” words\n(_fo
 ssil fuels_)\n\nTHURSDAY\, JUNE 22\, 9:00 A.M. ET\nJennifer Lynes: Reside
 ntial energy conservation behaviour and social\nand community-based green 
 marketing\n\nFRIDAY\, JUNE 23\, 9:00 A.M. ET\nEric Croiset: Carbon dioxi
 de capture processes\n\n [Climate Change and Water Security in Urbanized W
 atersheds: An\nInterdisciplinary Perspective]
DTSTAMP:20260315T055202Z
END:VEVENT
END:VCALENDAR