BEGIN:VCALENDAR
VERSION:2.0
PRODID:-//Drupal iCal API//EN
X-WR-CALNAME:Events items teaser
X-WR-TIMEZONE:America/Toronto
BEGIN:VTIMEZONE
TZID:America/Toronto
X-LIC-LOCATION:America/Toronto
BEGIN:DAYLIGHT
TZNAME:EDT
TZOFFSETFROM:-0500
TZOFFSETTO:-0400
DTSTART:20230312T070000
END:DAYLIGHT
BEGIN:STANDARD
TZNAME:EST
TZOFFSETFROM:-0400
TZOFFSETTO:-0500
DTSTART:20221106T060000
END:STANDARD
END:VTIMEZONE
BEGIN:VEVENT
UID:69b5835f7c323
DTSTART;TZID=America/Toronto:20230605T090000
SEQUENCE:0
TRANSP:TRANSPARENT
DTEND;TZID=America/Toronto:20230609T100000
URL:https://uwaterloo.ca/water-energy-security-changing-climate/events/modu
 le-1-setting-scene
SUMMARY:Module 1: Setting the scene
CLASS:PUBLIC
DESCRIPTION:MONDAY\, JUNE 5\, 9:00 A.M. ET\nPhilippe Van Cappellen: Urban
 ization as a driver of global\nenvironmental change\n\nTUESDAY\, JUNE 6\, 
 9:00 A.M. ET\nSarah Burch: Climate change governance in cities\n\nWEDNES
 DAY\, JUNE 7\, 9:00 A.M. ET\nRoy Brouwer: Climate change and water secur
 ity\n\nTHURSDAY\, JUNE 8\, 9:00 A.M. ET\nClaudio Cañizares: Electrical
  grid challenges under climate change\n\nFRIDAY\, JUNE 9\, 9:00 A.M. ET\nK
 elly Skinner: Climate\, water and food security in northern Indigenous\nco
 mmunities
DTSTAMP:20260314T154847Z
END:VEVENT
END:VCALENDAR