BEGIN:VCALENDAR
VERSION:2.0
PRODID:-//Drupal iCal API//EN
X-WR-CALNAME:Events items teaser
X-WR-TIMEZONE:America/Toronto
BEGIN:VTIMEZONE
TZID:America/Toronto
X-LIC-LOCATION:America/Toronto
BEGIN:DAYLIGHT
TZNAME:EDT
TZOFFSETFROM:-0500
TZOFFSETTO:-0400
DTSTART:20230312T070000
END:DAYLIGHT
BEGIN:STANDARD
TZNAME:EST
TZOFFSETFROM:-0400
TZOFFSETTO:-0500
DTSTART:20221106T060000
END:STANDARD
END:VTIMEZONE
BEGIN:VEVENT
UID:69b526cc5e7bc
DTSTART;TZID=America/Toronto:20230612T090000
SEQUENCE:0
TRANSP:TRANSPARENT
DTEND;TZID=America/Toronto:20230616T100000
URL:https://uwaterloo.ca/water-energy-security-changing-climate/events/modu
 le-2-climate-change-and-water-security
SUMMARY:Module 2: Climate change and water security
CLASS:PUBLIC
DESCRIPTION:MONDAY\, JUNE 12\, 9:00 A.M. ET\nMonica Emelko: The role of gre
 en and grey infrastructure in water\nsupply security\n\nTUESDAY\, JUNE 13\
 , 9:00 A.M. ET\nJason Thistlethwaite: Climate change risk management plan
 ning\n\nWEDNESDAY\, JUNE 14\, 9:00 A.M. ET\nSusan Elliott: Climate change\
 , SDG-6 and global health\n\nTHURSDAY\, JUNE 15\, 9:00 A.M. ET\nNadine Ibr
 ahim: Infrastructure for sustainable cities\n\nFRIDAY\, JUNE 16\, 9:00 A.
 M. ET\nKelsey Leonard: Rights and rivers
DTSTAMP:20260314T091348Z
END:VEVENT
END:VCALENDAR