BEGIN:VCALENDAR
VERSION:2.0
PRODID:-//Drupal iCal API//EN
X-WR-CALNAME:Events items teaser
X-WR-TIMEZONE:America/Toronto
BEGIN:VTIMEZONE
TZID:America/Toronto
X-LIC-LOCATION:America/Toronto
BEGIN:DAYLIGHT
TZNAME:EDT
TZOFFSETFROM:-0500
TZOFFSETTO:-0400
DTSTART:20240310T070000
END:DAYLIGHT
BEGIN:STANDARD
TZNAME:EST
TZOFFSETFROM:-0400
TZOFFSETTO:-0500
DTSTART:20241103T060000
END:STANDARD
END:VTIMEZONE
BEGIN:VEVENT
UID:69eb33a7316c9
DTSTART;TZID=America/Toronto:20250220T110000
SEQUENCE:0
TRANSP:TRANSPARENT
DTEND;TZID=America/Toronto:20250220T120000
URL:https://uwaterloo.ca/water-institute/events/swamp-indigenous-environmen
 tal-justice-across-north
LOCATION:DC - William G. Davis Computer Research Centre 200 University Aven
 ue West DC 1302 Waterloo ON N2L 3G1 Canada
SUMMARY:On the swamp: Indigenous environmental justice across North\nCaroli
 na’s coastal plain
CLASS:PUBLIC
DESCRIPTION:As part of the Water Institute's WaterTalks lecture series\, Dr
 . Ryan\nEmmanuel\, Associate Professor of Hydrology\, Duke University\, No
 rth\nCarolina\, US\, will present: On the swamp: Indigenous environmental\
 njustice across North Carolina’s coastal plain.\n\nThis event is in pers
 on in DC 1302 with a networking lunch reception\nto follow in DC 1301 (The
  Fishbowl).
DTSTAMP:20260424T091103Z
END:VEVENT
END:VCALENDAR