BEGIN:VCALENDAR
VERSION:2.0
PRODID:-//Drupal iCal API//EN
X-WR-CALNAME:Events items teaser
X-WR-TIMEZONE:America/Toronto
BEGIN:VTIMEZONE
TZID:America/Toronto
X-LIC-LOCATION:America/Toronto
BEGIN:DAYLIGHT
TZNAME:EDT
TZOFFSETFROM:-0500
TZOFFSETTO:-0400
DTSTART:20250309T070000
END:DAYLIGHT
BEGIN:STANDARD
TZNAME:EST
TZOFFSETFROM:-0400
TZOFFSETTO:-0500
DTSTART:20241103T060000
END:STANDARD
END:VTIMEZONE
BEGIN:VEVENT
UID:69e7beb907816
DTSTART;TZID=America/Toronto:20250924T143000
SEQUENCE:0
TRANSP:TRANSPARENT
DTEND;TZID=America/Toronto:20250924T153000
URL:https://uwaterloo.ca/water-institute/events/recent-trends-groundwater-u
 se-south-asia-role-technology-and
LOCATION:DC - William G. Davis Computer Research Centre 200 University Aven
 ue West DC 1304 Waterloo ON N0G 2L0 Canada
SUMMARY:Recent trends in groundwater use in South Asia: The role of technol
 ogy\nand water-energy-food-poverty nexus tradeoffs
CLASS:PUBLIC
DESCRIPTION:As part of the Water Institute's WaterTalks lecture series\, S
 oumya\nBalasubramanya\, Senior Economist at The World Bank\, Washington\,
  DC\,\nwill present \"_Recent trends in groundwater use in South Asia: The
 \nrole of technology and water-energy-food-poverty nexus tradeoffs.\"_\n\n
 This event is in person in DC 1304 with a networking reception to\nfollow 
 in DC 1301 (The Fishbowl).
DTSTAMP:20260421T181521Z
END:VEVENT
END:VCALENDAR