BEGIN:VCALENDAR
VERSION:2.0
PRODID:-//Drupal iCal API//EN
X-WR-CALNAME:Events items teaser
X-WR-TIMEZONE:America/Toronto
BEGIN:VTIMEZONE
TZID:America/Toronto
X-LIC-LOCATION:America/Toronto
BEGIN:DAYLIGHT
TZNAME:EDT
TZOFFSETFROM:-0500
TZOFFSETTO:-0400
DTSTART:20250309T070000
END:DAYLIGHT
BEGIN:STANDARD
TZNAME:EST
TZOFFSETFROM:-0400
TZOFFSETTO:-0500
DTSTART:20251102T060000
END:STANDARD
END:VTIMEZONE
BEGIN:VEVENT
UID:69e7c61e3f0f6
DTSTART;TZID=America/Toronto:20251120T110000
SEQUENCE:0
TRANSP:TRANSPARENT
DTEND;TZID=America/Toronto:20251120T120000
URL:https://uwaterloo.ca/water-institute/events/compound-flood-and-drought-
 hazards-changing-climate
LOCATION:DC - William G. Davis Computer Research Centre 200 University Aven
 ue West DC 1302 Waterloo ON N0G 2L0 Canada
SUMMARY:Compound flood and drought hazards in a changing climate: Implicati
 ons\nfor risk and resilience
CLASS:PUBLIC
DESCRIPTION:As part of the Water Institute's WaterTalks lecture series\, Re
 za\nNajafi\, Associate Professor of Civil and Environmental Engineering a
 t\nWestern University and head of the Hydroclimate Extremes and Climate\n
 Change Lab (HydroClimEX Lab)\, co-director of the Centre for\nMultihazard 
 Risk and Resilience (CMRR)\, will present _Compound flood\nand drought haz
 ards in a changing climate: Implications for risk and\nresilience_.\n\nThi
 s event is in person in DC 1302 with a networking lunch reception\nto foll
 ow in DC 1301 (The Fishbowl).
DTSTAMP:20260421T184654Z
END:VEVENT
END:VCALENDAR