BEGIN:VCALENDAR
VERSION:2.0
PRODID:-//Drupal iCal API//EN
X-WR-CALNAME:Events items teaser
X-WR-TIMEZONE:America/Toronto
BEGIN:VTIMEZONE
TZID:America/Toronto
X-LIC-LOCATION:America/Toronto
BEGIN:DAYLIGHT
TZNAME:EDT
TZOFFSETFROM:-0500
TZOFFSETTO:-0400
DTSTART:20260308T070000
END:DAYLIGHT
BEGIN:STANDARD
TZNAME:EST
TZOFFSETFROM:-0400
TZOFFSETTO:-0500
DTSTART:20251102T060000
END:STANDARD
END:VTIMEZONE
BEGIN:VEVENT
UID:69e7cb53eb6e1
DTSTART;TZID=America/Toronto:20260415T150000
SEQUENCE:0
TRANSP:TRANSPARENT
DTEND;TZID=America/Toronto:20260415T160000
URL:https://uwaterloo.ca/water-institute/events/functional-reality-watershe
 ds-complexity-time-variance-and
LOCATION:DC - William G. Davis Computer Research Centre 200 University Aven
 ue West DC 1302 Waterloo ON N0G 2L0 Canada
SUMMARY:The functional reality of watersheds: Complexity\, time-variance\, 
 and\nthe limits of current deep learning models
CLASS:PUBLIC
DESCRIPTION:As part of the Water Institute's WaterTalks lecture series\, Al
 i Ameli\,\nProfessor &amp; Director of HydroGeoScience for Watershed Managemen
 t\n(HGS-WM) Research Group\, UBC\, will present The functional reality of\
 nwatersheds: Complexity\, time-variance\, and the limits of current deep\n
 learning models.\n\nThis event is in person in DC 1302.
DTSTAMP:20260421T190907Z
END:VEVENT
END:VCALENDAR