BEGIN:VCALENDAR
VERSION:2.0
PRODID:-//Drupal iCal API//EN
X-WR-CALNAME:Events items teaser
X-WR-TIMEZONE:America/Toronto
BEGIN:VTIMEZONE
TZID:America/Toronto
X-LIC-LOCATION:America/Toronto
BEGIN:DAYLIGHT
TZNAME:EDT
TZOFFSETFROM:-0500
TZOFFSETTO:-0400
DTSTART:20260308T070000
END:DAYLIGHT
BEGIN:STANDARD
TZNAME:EST
TZOFFSETFROM:-0400
TZOFFSETTO:-0500
DTSTART:20251102T060000
END:STANDARD
END:VTIMEZONE
BEGIN:VEVENT
UID:69e7bfa06a9c2
DTSTART;TZID=America/Toronto:20260501T140000
SEQUENCE:0
TRANSP:TRANSPARENT
DTEND;TZID=America/Toronto:20260501T150000
URL:https://uwaterloo.ca/water-institute/events/using-nature-based-treatmen
 t-solve-some-worlds-water-crises
LOCATION:University of Waterloo 200 University Avenue West Federation Hall 
 Waterloo ON N0G 2L0 Canada
SUMMARY:Using Nature-Based Treatment to Solve Some of the World’s Water\n
 Crises
CLASS:PUBLIC
DESCRIPTION:The Water Institute and the Faculty of Engineering are pleased 
 to\npresent the 2025–26 AEESP Distinguished Lecture\, _Using Nature-Base
 d\nTreatment to Solve Some of the World’s Water Crises_\, presented by\n
 David Sedlak\, PhD\, Plato Malozemoff Distinguished Professor of Civil\nan
 d Environmental Engineering at the University of California\,\nBerkeley.\n
 \nThis event will be held in person at Federation Hall\, University of\nWa
 terloo.
DTSTAMP:20260421T181912Z
END:VEVENT
END:VCALENDAR