BEGIN:VCALENDAR
VERSION:2.0
PRODID:-//Drupal iCal API//EN
X-WR-CALNAME:Events items teaser
X-WR-TIMEZONE:America/Toronto
BEGIN:VTIMEZONE
TZID:America/Toronto
X-LIC-LOCATION:America/Toronto
BEGIN:DAYLIGHT
TZNAME:EDT
TZOFFSETFROM:-0500
TZOFFSETTO:-0400
DTSTART:20170312T070000
END:DAYLIGHT
BEGIN:STANDARD
TZNAME:EST
TZOFFSETFROM:-0400
TZOFFSETTO:-0500
DTSTART:20161106T060000
END:STANDARD
END:VTIMEZONE
BEGIN:VEVENT
UID:69e54ced348ed
DTSTART;TZID=America/Toronto:20170910T090000
SEQUENCE:0
TRANSP:TRANSPARENT
DTEND;TZID=America/Toronto:20170913T170000
URL:https://uwaterloo.ca/water-institute/events/water-research-conference
LOCATION:Crowne Plaza — Kitchener-Waterloo 105 King St. E. Kitchener ON C
 anada
SUMMARY:The Role of Water Technology Innovation in the Blue Economy —\nEl
 sevier's fourth water research conference
CLASS:PUBLIC
DESCRIPTION:We are pleased to announce that the Water Institute will host\n
 Elsevier's renowned annual Water Research Conference. Welcoming water\ncol
 leagues from around the world\, the conference will focus on the\nrole of
  water technology innovation in the blue economy.\n\nRegister\, submit abs
 tracts\, and find out more on the official event\npage. [http://www.waterr
 esearchconference.com/]
DTSTAMP:20260419T214517Z
END:VEVENT
END:VCALENDAR