BEGIN:VCALENDAR
VERSION:2.0
PRODID:-//Drupal iCal API//EN
X-WR-CALNAME:Events items teaser
X-WR-TIMEZONE:America/Toronto
BEGIN:VTIMEZONE
TZID:America/Toronto
X-LIC-LOCATION:America/Toronto
BEGIN:DAYLIGHT
TZNAME:EDT
TZOFFSETFROM:-0500
TZOFFSETTO:-0400
DTSTART:20170312T070000
END:DAYLIGHT
BEGIN:STANDARD
TZNAME:EST
TZOFFSETFROM:-0400
TZOFFSETTO:-0500
DTSTART:20161106T060000
END:STANDARD
END:VTIMEZONE
BEGIN:VEVENT
UID:69e78e3c7d57a
DTSTART;TZID=America/Toronto:20170316T143000
SEQUENCE:0
TRANSP:TRANSPARENT
DTEND;TZID=America/Toronto:20170316T153000
URL:https://uwaterloo.ca/water-institute/events/floods-and-droughts-eliciti
 ng-customer-willingness-pay-and
LOCATION:QNC - Quantum Nano Centre 200 University Avenue West Room 1501 Wat
 erloo ON N2L 3G1 Canada
SUMMARY:Floods and Droughts: Eliciting Customer Willingness-to-Pay and Adve
 rse\nEvent Likelihood Priors for Public Utility Pricing and Infrastructure
 \nDecisions
CLASS:PUBLIC
DESCRIPTION:In this seminar\, Diane Dupont\n[https://brocku.ca/social-scie
 nces/departments-and-centres/economics/faculty/diane-p-dupont]\, a\nprofe
 ssor in the Department of Economics and member of the\nEnvironmental Susta
 inability Research Centre at Brock University\,\npresents a method for obt
 aining public preferences for improved water\nand wastewater management.\n
 \nRegister today\n[https://www.eventbrite.ca/e/floods-and-droughts-eliciti
 ng-customer-willingness-to-pay-and-adverse-event-likelihood-priors-for-tic
 kets-31326308833].\n\nLight refreshments will be provided. 
DTSTAMP:20260421T144828Z
END:VEVENT
END:VCALENDAR