BEGIN:VCALENDAR
VERSION:2.0
PRODID:-//Drupal iCal API//EN
X-WR-CALNAME:Events items teaser
X-WR-TIMEZONE:America/Toronto
BEGIN:VTIMEZONE
TZID:America/Toronto
X-LIC-LOCATION:America/Toronto
BEGIN:DAYLIGHT
TZNAME:EDT
TZOFFSETFROM:-0500
TZOFFSETTO:-0400
DTSTART:20170312T070000
END:DAYLIGHT
BEGIN:STANDARD
TZNAME:EST
TZOFFSETFROM:-0400
TZOFFSETTO:-0500
DTSTART:20161106T060000
END:STANDARD
END:VTIMEZONE
BEGIN:VEVENT
UID:69e4c9b09c763
DTSTART;TZID=America/Toronto:20171101T153000
SEQUENCE:0
TRANSP:TRANSPARENT
DTEND;TZID=America/Toronto:20171101T153000
URL:https://uwaterloo.ca/water-institute/events/global-institute-water-secu
 rity-distinguished-lecture-series
LOCATION:University of Saskatchewan 111 Research Drive Innovation Place Can
 dle Room Saskatoon SK S7N 3R2 Canada
SUMMARY:Global Institute for Water Security Distinguished Lecture Series\nf
 eaturing Roy Brouwer
CLASS:PUBLIC
DESCRIPTION:As part of the University of Saskatchewan's Global Institute fo
 r Water\nSecurity Distinguished Lecture Series\n[https://gwf.usask.ca/even
 ts/2017/11/giws-lecture-series-nov1.php]\,\nthe Water Institute's executiv
 e director and professor of\neconomics\, Roy Brouwer [/water-institute/no
 de/313]\, will present\,\n\"Integrating Economics into Water Policy and De
 cision-Making\n[https://gwf.usask.ca/documents/events/dls-2017/5-Brouwer_p
 oster.pdf].\" This\nlecture is part of aweekly seminar series featuring
  top water\nexperts from around the world. 
DTSTAMP:20260419T122520Z
END:VEVENT
END:VCALENDAR