BEGIN:VCALENDAR
VERSION:2.0
PRODID:-//Drupal iCal API//EN
X-WR-CALNAME:Events items teaser
X-WR-TIMEZONE:America/Toronto
BEGIN:VTIMEZONE
TZID:America/Toronto
X-LIC-LOCATION:America/Toronto
BEGIN:DAYLIGHT
TZNAME:EDT
TZOFFSETFROM:-0500
TZOFFSETTO:-0400
DTSTART:20170312T070000
END:DAYLIGHT
BEGIN:STANDARD
TZNAME:EST
TZOFFSETFROM:-0400
TZOFFSETTO:-0500
DTSTART:20171105T060000
END:STANDARD
END:VTIMEZONE
BEGIN:VEVENT
UID:69e7f80eef1fd
DTSTART;TZID=America/Toronto:20171130T143000
SEQUENCE:0
TRANSP:TRANSPARENT
DTEND;TZID=America/Toronto:20171130T143000
URL:https://uwaterloo.ca/water-institute/events/bringing-conservation-citie
 s-lessons-building-detroit-river
LOCATION:DC - William G. Davis Computer Research Centre 200 University Aven
 ue West Room 1302 Waterloo ON N2L 3G1 Canada
SUMMARY:Bringing Conservation to Cities: Lessons From Building the Detroit\
 nRiver International Wildlife Refuge
CLASS:PUBLIC
DESCRIPTION:As part of the Water Institute's WaterTalks lecture series\n[h
 ttps://uwaterloo.ca/water-institute/watertalks]\, Professor John\nHartig\,
  Fulbright Scholar serving as the Fulbright Canada Research\nChair in Glo
 bal Governance at Balsillie School of International\nAffairs in Waterloo\,
  presents\, \"_Bringing Conservation to Cities:\nLessons From Building th
 e Detroit River International Wildlife\nRefuge_.\"\n\nLight refreshments w
 ill be provided.
DTSTAMP:20260421T221958Z
END:VEVENT
END:VCALENDAR