BEGIN:VCALENDAR
VERSION:2.0
PRODID:-//Drupal iCal API//EN
X-WR-CALNAME:Events items teaser
X-WR-TIMEZONE:America/Toronto
BEGIN:VTIMEZONE
TZID:America/Toronto
X-LIC-LOCATION:America/Toronto
BEGIN:DAYLIGHT
TZNAME:EDT
TZOFFSETFROM:-0500
TZOFFSETTO:-0400
DTSTART:20170312T070000
END:DAYLIGHT
BEGIN:STANDARD
TZNAME:EST
TZOFFSETFROM:-0400
TZOFFSETTO:-0500
DTSTART:20171105T060000
END:STANDARD
END:VTIMEZONE
BEGIN:VEVENT
UID:69e7f80f74fa9
DTSTART;TZID=America/Toronto:20171123T143000
SEQUENCE:0
TRANSP:TRANSPARENT
DTEND;TZID=America/Toronto:20171123T153000
URL:https://uwaterloo.ca/water-institute/events/big-data-analysis-residenti
 al-water-demand-records
LOCATION:EIT - Centre for Environmental and Information Technology 200 Univ
 ersity Avenue West Room 3142 Waterloo ON N2L 3G1 Canada
SUMMARY:Big Data Analysis of Residential Water Demand Records
CLASS:PUBLIC
DESCRIPTION:PhD candidate Robert Enouy and Associate Professor Andre Unge
 r from\nthe Department of Earth and Environmental Sciences will present\
 , \"Big\nData Analysis of Residential Water Demand Records\,\" on Thursday
 \,\nNovember 23 at 2:30 p.m.\n\nLight refreshments will be provided.\n\nPl
 ease register\n[https://www.eventbrite.ca/e/big-data-analysis-of-residenti
 al-water-demand-records-tickets-39614420799].
DTSTAMP:20260421T221959Z
END:VEVENT
END:VCALENDAR