BEGIN:VCALENDAR
VERSION:2.0
PRODID:-//Drupal iCal API//EN
X-WR-CALNAME:Events items teaser
X-WR-TIMEZONE:America/Toronto
BEGIN:VTIMEZONE
TZID:America/Toronto
X-LIC-LOCATION:America/Toronto
BEGIN:DAYLIGHT
TZNAME:EDT
TZOFFSETFROM:-0500
TZOFFSETTO:-0400
DTSTART:20180311T070000
END:DAYLIGHT
BEGIN:STANDARD
TZNAME:EST
TZOFFSETFROM:-0400
TZOFFSETTO:-0500
DTSTART:20171105T060000
END:STANDARD
END:VTIMEZONE
BEGIN:VEVENT
UID:69eaf2b4740c9
DTSTART;TZID=America/Toronto:20180611T080000
SEQUENCE:0
TRANSP:TRANSPARENT
DTEND;TZID=America/Toronto:20180615T170000
URL:https://uwaterloo.ca/water-institute/events/labex-cote-international-su
 mmer-school-2018
SUMMARY:LabEx COTE International Summer School - 2018
CLASS:PUBLIC
DESCRIPTION:\"INTERACTIONS BETWEEN ECOSYSTEMS AND RURAL–URBAN FRINGES\"\n
 \nBORDEAUX\, FRANCE\, JUNE 11 - 15\, 2018\n\nThe Summer School is part of
  the COTE Cluster of Excellence training\nprogram and gathers PhD students
  in environmental sciences\, each\nspecialized in different disciplines su
 ch as ecology\, chemistry\,\nbiology and even sociology. Through talks\, f
 ield trips and roundtables\nwith international experts on integrative ecol
 ogy\, the program will\nprovide a comprehensive and multidisciplinary appr
 oach on the\ninteractions between ecosystems and rural-urban fringes.
DTSTAMP:20260424T043356Z
END:VEVENT
END:VCALENDAR