BEGIN:VCALENDAR
VERSION:2.0
PRODID:-//Drupal iCal API//EN
X-WR-CALNAME:Events items teaser
X-WR-TIMEZONE:America/Toronto
BEGIN:VTIMEZONE
TZID:America/Toronto
X-LIC-LOCATION:America/Toronto
BEGIN:DAYLIGHT
TZNAME:EDT
TZOFFSETFROM:-0500
TZOFFSETTO:-0400
DTSTART:20190310T070000
END:DAYLIGHT
BEGIN:STANDARD
TZNAME:EST
TZOFFSETFROM:-0400
TZOFFSETTO:-0500
DTSTART:20191103T060000
END:STANDARD
END:VTIMEZONE
BEGIN:VEVENT
UID:69eca59ea71bc
DTSTART;TZID=America/Toronto:20191112T100000
SEQUENCE:0
TRANSP:TRANSPARENT
DTEND;TZID=America/Toronto:20191112T100000
URL:https://uwaterloo.ca/water-institute/events/biology-cold-rainforests-an
 d-icy-landscapes-pollution
LOCATION:STC - Science Teaching Complex 200 University Ave West Waterloo ON
  N2L 3G1 Canada
SUMMARY:Biology of cold rainforests and icy landscapes\; Pollution in\nSuba
 ntartic and Antarctic aquatic systems
CLASS:PUBLIC
DESCRIPTION:BIOLOGY OF COLD RAINFORESTS AND ICY LANDSCAPES\; POLLUTION IN\n
 SUBANTARTIC AND ANTARCTIC AQUATIC SYSTEMS\n\nDr. Gustavo Chiang\, Scienti
 fic Director\, MERI Fundación\, Chile
DTSTAMP:20260425T112934Z
END:VEVENT
END:VCALENDAR