BEGIN:VCALENDAR
VERSION:2.0
PRODID:-//Drupal iCal API//EN
X-WR-CALNAME:Events items teaser
X-WR-TIMEZONE:America/Toronto
BEGIN:VTIMEZONE
TZID:America/Toronto
X-LIC-LOCATION:America/Toronto
BEGIN:DAYLIGHT
TZNAME:EDT
TZOFFSETFROM:-0500
TZOFFSETTO:-0400
DTSTART:20190310T070000
END:DAYLIGHT
BEGIN:STANDARD
TZNAME:EST
TZOFFSETFROM:-0400
TZOFFSETTO:-0500
DTSTART:20191103T060000
END:STANDARD
END:VTIMEZONE
BEGIN:VEVENT
UID:69e7b40cc3016
DTSTART;TZID=America/Toronto:20191108T143000
SEQUENCE:0
TRANSP:TRANSPARENT
DTEND;TZID=America/Toronto:20191108T163000
URL:https://uwaterloo.ca/water-institute/events/biology-seminar-importance-
 studying-differences-fatty-acid
LOCATION:STC - Science Teaching Complex 200 University Ave West 0040 Waterl
 oo ON N2L 3G1 Canada
SUMMARY:Biology Seminar: On the importance of studying differences in the\n
 fatty acid composition of aquatic organisms: A comprehensive\nmeta-analysi
 s and a real practical example.
CLASS:PUBLIC
DESCRIPTION:Presented by:\nCamilla Parzanini\nResearch Fellow\, Department 
 of Chemistry and Biology\, Ryerson\nUniversity
DTSTAMP:20260421T172948Z
END:VEVENT
END:VCALENDAR