BEGIN:VCALENDAR
VERSION:2.0
PRODID:-//Drupal iCal API//EN
X-WR-CALNAME:Events items teaser
X-WR-TIMEZONE:America/Toronto
BEGIN:VTIMEZONE
TZID:America/Toronto
X-LIC-LOCATION:America/Toronto
BEGIN:DAYLIGHT
TZNAME:EDT
TZOFFSETFROM:-0500
TZOFFSETTO:-0400
DTSTART:20210314T070000
END:DAYLIGHT
BEGIN:STANDARD
TZNAME:EST
TZOFFSETFROM:-0400
TZOFFSETTO:-0500
DTSTART:20201101T060000
END:STANDARD
END:VTIMEZONE
BEGIN:VEVENT
UID:69ebe380588de
DTSTART;TZID=America/New_York:20210526T190000
SEQUENCE:0
TRANSP:TRANSPARENT
DTEND;TZID=America/New_York:20210526T190000
URL:https://uwaterloo.ca/water-institute/events/science-new-faculty-talk-an
 drea-brookfield
SUMMARY:Science New Faculty Talk by Andrea Brookfield
CLASS:PUBLIC
DESCRIPTION:The Faculty of Science is proud to announce a new online lectur
 e\nseries that highlights the incredible new talent in our midst. The\nfi
 rst lecture will be by Water Institute member and Assistant\nProfessor in
  the Department of Earth and Environmental\nSciences\, Andrea Brookfield\
 n[https://uwaterloo.ca/earth-environmental-sciences/people-profiles/andrea
 -brookfield].
DTSTAMP:20260424T214120Z
END:VEVENT
END:VCALENDAR