BEGIN:VCALENDAR
VERSION:2.0
PRODID:-//Drupal iCal API//EN
X-WR-CALNAME:Events items teaser
X-WR-TIMEZONE:America/Toronto
BEGIN:VTIMEZONE
TZID:America/Toronto
X-LIC-LOCATION:America/Toronto
BEGIN:DAYLIGHT
TZNAME:EDT
TZOFFSETFROM:-0500
TZOFFSETTO:-0400
DTSTART:20210314T070000
END:DAYLIGHT
BEGIN:STANDARD
TZNAME:EST
TZOFFSETFROM:-0400
TZOFFSETTO:-0500
DTSTART:20211107T060000
END:STANDARD
END:VTIMEZONE
BEGIN:VEVENT
UID:69ebb87475379
DTSTART;TZID=America/Toronto:20211125T100000
SEQUENCE:0
TRANSP:TRANSPARENT
DTEND;TZID=America/Toronto:20211125T110000
URL:https://uwaterloo.ca/water-institute/events/watertalk-microplastics-and
 -human-health-moving-field
LOCATION:Canada
SUMMARY:WaterTalk: Microplastics and Human Health: Moving the Field Forward
CLASS:PUBLIC
DESCRIPTION:[Institute logos]\n\nJoin us for a special WaterTalk\n[https://
 uwaterloo.ca/water-institute/watertalks] co-hosted by the\nUniversity of 
 Waterloo’s Water Institute\n[https://uwaterloo.ca/water-institute/] and 
 The Waterloo Institute for\nNanotechnology (WIN) [https://uwaterloo.ca/ins
 titute-nanotechnology/]\,\nwhere JULIETTE LEGLER\, Chair of Toxicology\, 
 Institute for Risk\nAssessment Sciences\, Utrecht University\, The Netherl
 ands\, presents\,\n_“Microplastics and Human Health: Moving the Field Fo
 rward.”_
DTSTAMP:20260424T183740Z
END:VEVENT
END:VCALENDAR