BEGIN:VCALENDAR
VERSION:2.0
PRODID:-//Drupal iCal API//EN
X-WR-CALNAME:Events items teaser
X-WR-TIMEZONE:America/Toronto
BEGIN:VTIMEZONE
TZID:America/Toronto
X-LIC-LOCATION:America/Toronto
BEGIN:DAYLIGHT
TZNAME:EDT
TZOFFSETFROM:-0500
TZOFFSETTO:-0400
DTSTART:20220313T070000
END:DAYLIGHT
BEGIN:STANDARD
TZNAME:EST
TZOFFSETFROM:-0400
TZOFFSETTO:-0500
DTSTART:20221106T060000
END:STANDARD
END:VTIMEZONE
BEGIN:VEVENT
UID:69ecfc70c19dc
DTSTART;TZID=America/Toronto:20230214T123000
SEQUENCE:0
TRANSP:TRANSPARENT
DTEND;TZID=America/Toronto:20230214T140000
URL:https://uwaterloo.ca/water-institute/events/waterleadership-sharing-sci
 ence-clear-language-writing
LOCATION:DC - William G. Davis Computer Research Centre 200 University Aven
 ue West DC 1304 Waterloo ON N2L 3G1 Canada
SUMMARY:WaterLeadership | Sharing Science: Clear Language Writing
CLASS:PUBLIC
DESCRIPTION:As part of the Water Institute's WaterLeadership training seri
 es\n[/water-institute/waterleadership]\, the Water Institute\, presents\,\
 n\"SHARING SCIENCE: CLEAR LANGUAGE WRITING”with  special\nguest Elisab
 eth Van Stam\, Writing and Communications Advisor\,\nGraduate and Postdoct
 oral Programs\, STEM Specialist.\n\n_REGISTRATION IS NOW CLOSED._
DTSTAMP:20260425T174000Z
END:VEVENT
END:VCALENDAR