BEGIN:VCALENDAR
VERSION:2.0
PRODID:-//Drupal iCal API//EN
X-WR-CALNAME:Events items teaser
X-WR-TIMEZONE:America/Toronto
BEGIN:VTIMEZONE
TZID:America/Toronto
X-LIC-LOCATION:America/Toronto
BEGIN:DAYLIGHT
TZNAME:EDT
TZOFFSETFROM:-0500
TZOFFSETTO:-0400
DTSTART:20230312T070000
END:DAYLIGHT
BEGIN:STANDARD
TZNAME:EST
TZOFFSETFROM:-0400
TZOFFSETTO:-0500
DTSTART:20221106T060000
END:STANDARD
END:VTIMEZONE
BEGIN:VEVENT
UID:69e621aad2673
DTSTART;TZID=America/Toronto:20230517T120000
SEQUENCE:0
TRANSP:TRANSPARENT
DTEND;TZID=America/Toronto:20230517T120000
URL:https://uwaterloo.ca/water-institute/events/valuation-wetlands-agricult
 ural-landscapes-canada
SUMMARY:Valuation of wetlands in agricultural landscapes of Canada
CLASS:PUBLIC
DESCRIPTION:As part of the Water Institute's Webinar Series: The Value of 
 Water\nin Canada\n[https://uwaterloo.ca/water-economics-research-group/eve
 nts/webinar-series-value-water-canada] \nPASCAL BADIOU\, Research Scient
 ist\, Ducks Unlimited Canada presents:\n\nVALUATION OF WETLANDS IN AGRICUL
 TURAL LANDSCAPES OF CANADA\n\nREGISTER NOW [https://bit.ly/3L87LQU]
DTSTAMP:20260420T125258Z
END:VEVENT
END:VCALENDAR