BEGIN:VCALENDAR
VERSION:2.0
PRODID:-//Drupal iCal API//EN
X-WR-CALNAME:Events items teaser
X-WR-TIMEZONE:America/Toronto
BEGIN:VTIMEZONE
TZID:America/Toronto
X-LIC-LOCATION:America/Toronto
BEGIN:DAYLIGHT
TZNAME:EDT
TZOFFSETFROM:-0500
TZOFFSETTO:-0400
DTSTART:20230312T070000
END:DAYLIGHT
BEGIN:STANDARD
TZNAME:EST
TZOFFSETFROM:-0400
TZOFFSETTO:-0500
DTSTART:20221106T060000
END:STANDARD
END:VTIMEZONE
BEGIN:VEVENT
UID:69ec906494df4
DTSTART;TZID=America/Toronto:20231103T150000
SEQUENCE:0
TRANSP:TRANSPARENT
DTEND;TZID=America/Toronto:20231103T190000
URL:https://uwaterloo.ca/water-institute/events/10th-anniversary-celebratio
 n-collaborative-water-program
LOCATION:SLC - Student Life Centre 200 University Avenue West Black and Gol
 d Room Waterloo ON N2L 3G1 Canada
SUMMARY:10th Anniversary Celebration of the Collaborative Water Program
CLASS:PUBLIC
DESCRIPTION:Join us for a special milestone marking the 10th Anniversary of
  the\nUniversity of Waterloo Water Institute Collaborative Water Program\
 n(CWP) [https://uwaterloo.ca/collaborative-water-program/]! It's time\nto 
 celebrate 10 remarkable cohorts of CWP graduates from the most\ninterdisc
 iplinary water graduate program in Canada.
DTSTAMP:20260425T095900Z
END:VEVENT
END:VCALENDAR