BEGIN:VCALENDAR
VERSION:2.0
PRODID:-//Drupal iCal API//EN
X-WR-CALNAME:Events items teaser
X-WR-TIMEZONE:America/Toronto
BEGIN:VTIMEZONE
TZID:America/Toronto
X-LIC-LOCATION:America/Toronto
BEGIN:DAYLIGHT
TZNAME:EDT
TZOFFSETFROM:-0500
TZOFFSETTO:-0400
DTSTART:20230312T070000
END:DAYLIGHT
BEGIN:STANDARD
TZNAME:EST
TZOFFSETFROM:-0400
TZOFFSETTO:-0500
DTSTART:20221106T060000
END:STANDARD
END:VTIMEZONE
BEGIN:VEVENT
UID:69e4db605ef7e
DTSTART;TZID=America/Toronto:20231020T110000
SEQUENCE:0
TRANSP:TRANSPARENT
DTEND;TZID=America/Toronto:20231020T123000
URL:https://uwaterloo.ca/water-institute/events/collaborative-water-program
 -cwp-2023-information-session
LOCATION:University of Waterloo E2 2350 Canada
SUMMARY:Collaborative Water Program (CWP) 2023 Information Session
CLASS:PUBLIC
DESCRIPTION:Interested in adding a Water Qualification to Your University o
 f\nWaterloo graduate degree?\n\nThe University of Waterloo’s Collaborati
 ve Water Program\n[https://uwaterloo.ca/collaborative-water-program/] (CWP
 ) is the most\ninterdisciplinary water graduate program in Canada. Co-deli
 vered by 11\ndepartments and schools from all 6 faculties\, over 400 stude
 nts have\nparticipated in the CWP since its launch in 2013.
DTSTAMP:20260419T134048Z
END:VEVENT
END:VCALENDAR