BEGIN:VCALENDAR
VERSION:2.0
PRODID:-//Drupal iCal API//EN
X-WR-CALNAME:Events items teaser
X-WR-TIMEZONE:America/Toronto
BEGIN:VTIMEZONE
TZID:America/Toronto
X-LIC-LOCATION:America/Toronto
BEGIN:DAYLIGHT
TZNAME:EDT
TZOFFSETFROM:-0500
TZOFFSETTO:-0400
DTSTART:20230312T070000
END:DAYLIGHT
BEGIN:STANDARD
TZNAME:EST
TZOFFSETFROM:-0400
TZOFFSETTO:-0500
DTSTART:20231105T060000
END:STANDARD
END:VTIMEZONE
BEGIN:VEVENT
UID:69ea7a3711a40
DTSTART;TZID=America/Toronto:20231207T110000
SEQUENCE:0
TRANSP:TRANSPARENT
DTEND;TZID=America/Toronto:20231207T120000
URL:https://uwaterloo.ca/water-institute/events/watertalk-whats-public-abou
 t-public-water
LOCATION:DC - William G. Davis Computer Research Centre 200 University Aven
 ue West DC 1302 Waterloo ON N2L 3G1 Canada
SUMMARY:WaterTalk: What’s public about public water?
CLASS:PUBLIC
DESCRIPTION:As part of the Water Institute's WaterTalks lecture series\n[/w
 ater-institute/node/375]\, Dr. David McDonald\, Professor\,\nDepartment 
 of Global Development Studies\, Queen’s University\, will\npresent: Wha
 t’s public about public water?\n\nThis event is in person in DC 1302 wit
 h a lunch reception to follow in\nDC 1301 (The Fishbowl).
DTSTAMP:20260423T195951Z
END:VEVENT
END:VCALENDAR