BEGIN:VCALENDAR
VERSION:2.0
PRODID:-//Drupal iCal API//EN
X-WR-CALNAME:Events items teaser
X-WR-TIMEZONE:America/Toronto
BEGIN:VTIMEZONE
TZID:America/Toronto
X-LIC-LOCATION:America/Toronto
BEGIN:DAYLIGHT
TZNAME:EDT
TZOFFSETFROM:-0500
TZOFFSETTO:-0400
DTSTART:20250309T070000
END:DAYLIGHT
BEGIN:STANDARD
TZNAME:EST
TZOFFSETFROM:-0400
TZOFFSETTO:-0500
DTSTART:20251102T060000
END:STANDARD
END:VTIMEZONE
BEGIN:VEVENT
UID:69e6c03520504
DTSTART;TZID=America/Toronto:20251125T113000
SEQUENCE:0
TRANSP:TRANSPARENT
DTEND;TZID=America/Toronto:20251125T130000
URL:https://uwaterloo.ca/waterloo-centre-microbial-research/events/beyond-s
 earch-bar-ai-tools-smarter-literature-reviews
LOCATION:EV1 - Environment 1 200 University Ave West Waterloo ON N2L 3G1 Ca
 nada
SUMMARY:Beyond the Search Bar: AI Tools for Smarter Literature Reviews
CLASS:PUBLIC
DESCRIPTION:Join us at 11:30 in EV1 221 for a workshop  with UW Maths and\
 nComputer Science Librarian\, Rebecca Hutchison.\n\nThis workshop introduc
 es researchers to a selection of AI-enabled\ntools that can be used to hel
 p find existing literature on a wide\nrange of topics. In addition to prac
 tical demonstrations and tips for\nusing them effectively\, we’ll also c
 ritically examine their\nlimitations\, including potential biases\, and pr
 ivacy and copyright\nconcerns.\n\nLunch will be served\, please register\n
 [https://uwaterloo.ca/waterloo-centre-microbial-research/form/wcmr-ai-work
 shop-november-25-202]to\nattend.
DTSTAMP:20260421T000925Z
END:VEVENT
END:VCALENDAR