BEGIN:VCALENDAR
VERSION:2.0
PRODID:-//Drupal iCal API//EN
X-WR-CALNAME:Events items teaser
X-WR-TIMEZONE:America/Toronto
BEGIN:VTIMEZONE
TZID:America/Toronto
X-LIC-LOCATION:America/Toronto
BEGIN:DAYLIGHT
TZNAME:EDT
TZOFFSETFROM:-0500
TZOFFSETTO:-0400
DTSTART:20260308T070000
END:DAYLIGHT
BEGIN:STANDARD
TZNAME:EST
TZOFFSETFROM:-0400
TZOFFSETTO:-0500
DTSTART:20251102T060000
END:STANDARD
END:VTIMEZONE
BEGIN:VEVENT
UID:69e67160ce38e
DTSTART;VALUE=DATE:20260615
SEQUENCE:0
TRANSP:TRANSPARENT
DTEND;VALUE=DATE:20260618
URL:https://uwaterloo.ca/waterloo-centre-microbial-research/events/synbio80
 -june-15-17-2026
LOCATION:E7 - Engineering 7 200 University Ave West Waterloo ON N2L 3G1 Can
 ada
SUMMARY:SynBio8.0 - June 15-17\, 2026
CLASS:PUBLIC
DESCRIPTION:WCMR will host SynBio8.0 June 15-17\, 2026 in the Pearl Sulliv
 an\nEngineering Building (E7)\n\nTo register\, learn more about accommodat
 ions and find out how to\nsubmit your research paper\, please visit SynBi
 o8.0\n[https://www.synbiocanada.org/synbio8].\n\nPlease let us know\n[http
 s://uwaterloo.ca/waterloo-centre-microbial-research/form/volunteer-for-syn
 bio8-0]\nif you are interested in volunteering at the event. 
X-MICROSOFT-CDO-ALLDAYEVENT:TRUE
DTSTAMP:20260420T183304Z
END:VEVENT
END:VCALENDAR