BEGIN:VCALENDAR
VERSION:2.0
PRODID:-//Drupal iCal API//EN
X-WR-CALNAME:Events items teaser
X-WR-TIMEZONE:America/Toronto
BEGIN:VTIMEZONE
TZID:America/Toronto
X-LIC-LOCATION:America/Toronto
BEGIN:DAYLIGHT
TZNAME:EDT
TZOFFSETFROM:-0500
TZOFFSETTO:-0400
DTSTART:20170312T070000
END:DAYLIGHT
BEGIN:STANDARD
TZNAME:EST
TZOFFSETFROM:-0400
TZOFFSETTO:-0500
DTSTART:20171105T060000
END:STANDARD
END:VTIMEZONE
BEGIN:VEVENT
UID:69e720cfb5946
DTSTART;TZID=America/Toronto:20180212T123000
SEQUENCE:0
TRANSP:TRANSPARENT
DTEND;TZID=America/Toronto:20180212T123000
URL:https://uwaterloo.ca/waterloo-centre-microbial-research/events/environm
 ental-microbiology-journal-club-3
LOCATION:STC - Science Teaching Complex 200 University Ave West Room 2002 W
 aterloo ON N2L 3G1 Canada
SUMMARY:Environmental Microbiology Journal Club
CLASS:PUBLIC
DESCRIPTION:Presenter: Steffen Klaere\n\nPaper: Exact sequence variants sh
 ould replace operational taxonomic\nunits in marker-gene data analysis\n[h
 ttps://www.nature.com/articles/ismej2017119]\n\nThe Environmental Microbio
 logy Journal club discusses a recent paper\nof interest pertaining to micr
 obial ecology\, environmental\nmicrobiology\, metagenomics\, and emerging 
 microbiology on a biweekly\nbasis. One person selects the article of inte
 rest and provides a\nbrief overview of the main findings and implications 
 of the work. A\ngroup discussion follows.\n\nThis week's paper from the IS
 ME Journal: Multidisciplinary Journal of\nMicrobial Ecology talks about n
 ext generation sequencing and\nmetagenomics. Join host Prof Laura Hug\n[h
 ttps://uwaterloo.ca/biology/people-profiles/laura-hug] to learn\nmore!
DTSTAMP:20260421T070135Z
END:VEVENT
END:VCALENDAR