BEGIN:VCALENDAR
VERSION:2.0
PRODID:-//Drupal iCal API//EN
X-WR-CALNAME:Events items teaser
X-WR-TIMEZONE:America/Toronto
BEGIN:VTIMEZONE
TZID:America/Toronto
X-LIC-LOCATION:America/Toronto
BEGIN:DAYLIGHT
TZNAME:EDT
TZOFFSETFROM:-0500
TZOFFSETTO:-0400
DTSTART:20220313T070000
END:DAYLIGHT
BEGIN:DAYLIGHT
TZNAME:EDT
TZOFFSETFROM:-0500
TZOFFSETTO:-0400
DTSTART:20140309T070000
END:DAYLIGHT
BEGIN:STANDARD
TZNAME:EST
TZOFFSETFROM:-0400
TZOFFSETTO:-0500
DTSTART:20211107T060000
END:STANDARD
BEGIN:STANDARD
TZNAME:EST
TZOFFSETFROM:-0400
TZOFFSETTO:-0500
DTSTART:20131103T060000
END:STANDARD
END:VTIMEZONE
BEGIN:VEVENT
UID:69ecd54a8c77e
DTSTART;TZID=America/Toronto:20220623T120000
SEQUENCE:0
TRANSP:TRANSPARENT
DTEND;TZID=America/Toronto:20220623T130000
URL:https://uwaterloo.ca/waterloo-institute-for-social-innovation-and-resil
 ience/events/information-session-wisir-transdisciplinary-systemic
LOCATION:Virtual (Zoom Meeting) Canada
SUMMARY:Information Session: WISIR Transdisciplinary Systemic Innovation La
 b
CLASS:PUBLIC
DESCRIPTION:ARE YOU INSTRUCTING A COURSE AT THE UNIVERSITY OF WATERLOO THIS
  FALL?\n\nLOOKING FOR WAYS TO SPICE UP YOUR STUDENTS’ ENGAGEMENT IN YOUR
 \nCOURSE MATERIAL?
DTSTAMP:20260425T145258Z
END:VEVENT
BEGIN:VEVENT
UID:69ecd54a99309
DTSTART;VALUE=DATE:20140511
SEQUENCE:0
TRANSP:TRANSPARENT
DTEND;VALUE=DATE:20140512
URL:https://uwaterloo.ca/waterloo-institute-for-social-innovation-and-resil
 ience/events/kinomaagwinan-maamwaye-exploring-indigenist-innovation
LOCATION:STP - St. Paul's University College 190 Westmount Road North Forth
 coming Waterloo ON N2L 3G5 Canada
SUMMARY:Kinomaagwinan Maamwaye: Exploring Indigenist Innovation Scholarship
 \nand Practice
CLASS:PUBLIC
DESCRIPTION:_A symposium to explore transformative social __change__ throug
 h\nindigenist methodologies and social innovation __with_ _Dr. Shawn\nWils
 __on and Dr. Frances Westley_
X-MICROSOFT-CDO-ALLDAYEVENT:TRUE
DTSTAMP:20260425T145258Z
END:VEVENT
BEGIN:VEVENT
UID:69ecd54a9b784
DTSTART;VALUE=DATE:20131114
SEQUENCE:0
TRANSP:TRANSPARENT
DTEND;VALUE=DATE:20131116
URL:https://uwaterloo.ca/waterloo-institute-for-social-innovation-and-resil
 ience/events/social-frontiers-next-edge-social-innovation-research
LOCATION:London United Kingdom
SUMMARY:Social Frontiers: the next edge of social innovation research
CLASS:PUBLIC
DESCRIPTION:Organized by Nesta\, this conference featured a keynote by Fran
 ces\nWestley and presentations by WISIR researchers\; view the keynote and
 \nread the papers. [http://www.nesta.org.uk/event/social-frontiers]
X-MICROSOFT-CDO-ALLDAYEVENT:TRUE
DTSTAMP:20260425T145258Z
END:VEVENT
BEGIN:VEVENT
UID:69ecd54a9c5ff
DTSTART;TZID=Europe/Stockholm:20140504T083000
SEQUENCE:0
TRANSP:TRANSPARENT
DTEND;TZID=Europe/Stockholm:20140508T173000
URL:https://uwaterloo.ca/waterloo-institute-for-social-innovation-and-resil
 ience/events/resilience-2014-resilience-and-development-mobilizing
LOCATION:Stockholm Sweden
SUMMARY:Resilience 2014: Resilience and Development: Mobilizing for\nTransf
 ormation
CLASS:PUBLIC
DESCRIPTION:Waterloo Institute for Social Innovation and Resilience (WISIR)
 \nfaculty and staff will be presenting at this year's Resilience\nAlliance
  conference. 
DTSTAMP:20260425T145258Z
END:VEVENT
END:VCALENDAR