BEGIN:VCALENDAR
VERSION:2.0
PRODID:-//Drupal iCal API//EN
X-WR-CALNAME:Events items teaser
X-WR-TIMEZONE:America/Toronto
BEGIN:VTIMEZONE
TZID:America/Toronto
X-LIC-LOCATION:America/Toronto
BEGIN:DAYLIGHT
TZNAME:EDT
TZOFFSETFROM:-0500
TZOFFSETTO:-0400
DTSTART:20240310T070000
END:DAYLIGHT
BEGIN:STANDARD
TZNAME:EST
TZOFFSETFROM:-0400
TZOFFSETTO:-0500
DTSTART:20241103T060000
END:STANDARD
END:VTIMEZONE
BEGIN:VEVENT
UID:69eb6507cfb03
DTSTART;TZID=America/Toronto:20241128T090000
SEQUENCE:0
TRANSP:TRANSPARENT
DTEND;TZID=America/Toronto:20241128T160000
URL:https://uwaterloo.ca/waterloo-institute-sustainable-energy/events/one-d
 ay-workshop-decarbonization-challenges-canadas
LOCATION:E7 - Engineering 7 200 University Ave West Waterloo ON N2L 3G1 Can
 ada
SUMMARY:One-Day Workshop on Decarbonization Challenges for Canada’s\nElec
 tricity Grid
CLASS:PUBLIC
DESCRIPTION:One-Day Workshop on Decarbonization Challenges for Canada’s\n
 Electricity Grid
DTSTAMP:20260424T124143Z
END:VEVENT
END:VCALENDAR