BEGIN:VCALENDAR
VERSION:2.0
PRODID:-//Drupal iCal API//EN
X-WR-CALNAME:Events items teaser
X-WR-TIMEZONE:America/Toronto
BEGIN:VTIMEZONE
TZID:America/Toronto
X-LIC-LOCATION:America/Toronto
BEGIN:DAYLIGHT
TZNAME:EDT
TZOFFSETFROM:-0500
TZOFFSETTO:-0400
DTSTART:20170312T070000
END:DAYLIGHT
BEGIN:STANDARD
TZNAME:EST
TZOFFSETFROM:-0400
TZOFFSETTO:-0500
DTSTART:20161106T060000
END:STANDARD
END:VTIMEZONE
BEGIN:VEVENT
UID:69e6121d93565
DTSTART;TZID=America/Toronto:20170605T110000
SEQUENCE:0
TRANSP:TRANSPARENT
DTEND;TZID=America/Toronto:20170605T123000
URL:https://uwaterloo.ca/waterloo-intelligent-systems-engineering-lab/event
 s/jens-weiland-adaptive-autosar
LOCATION:DC - William G. Davis Computer Research Centre 200 University Aven
 ue West DC1331 Waterloo ON N2L 3G1 Canada
SUMMARY:Jens Weiland \"Adaptive AUTOSAR\"
CLASS:PUBLIC
DESCRIPTION:In this seminar\, Professor Jens Weiland will give a lecture on
  the\nlatest developments in AUTOSAR (abstract below). After that\, we'll
 \nhave a panel discussion about the relevance of Adaptive AUTOSAR for\nau
 tonomous driving. In particular\, we will be comparing with Robot\nOperati
 ng System (ROS)\, which we are using for Waterloo autonomous car\n(http://
 autonomoose.net [http://autonomoose.net/]). 
DTSTAMP:20260420T114637Z
END:VEVENT
END:VCALENDAR