BEGIN:VCALENDAR
VERSION:2.0
PRODID:-//Drupal iCal API//EN
X-WR-CALNAME:Events items teaser
X-WR-TIMEZONE:America/Toronto
BEGIN:VTIMEZONE
TZID:America/Toronto
X-LIC-LOCATION:America/Toronto
BEGIN:DAYLIGHT
TZNAME:EDT
TZOFFSETFROM:-0500
TZOFFSETTO:-0400
DTSTART:20250309T070000
END:DAYLIGHT
BEGIN:STANDARD
TZNAME:EST
TZOFFSETFROM:-0400
TZOFFSETTO:-0500
DTSTART:20241103T060000
END:STANDARD
END:VTIMEZONE
BEGIN:VEVENT
UID:69e37ad8c8d9e
DTSTART;TZID=America/Toronto:20250806T090000
SEQUENCE:0
TRANSP:TRANSPARENT
DTEND;TZID=America/Toronto:20250806T100000
URL:https://uwaterloo.ca/welcome-warriors/events/centering-equity-through-s
 tudent-voices
SUMMARY:Centering equity through student voices
CLASS:PUBLIC
DESCRIPTION:Hear from current equity-deserving students about how they foun
 d\ncommunity on campus. Register now in Portal\n[https://portal.uwaterloo.
 ca/events/e1554/registration].
DTSTAMP:20260418T123640Z
END:VEVENT
END:VCALENDAR