BEGIN:VCALENDAR
VERSION:2.0
PRODID:-//Drupal iCal API//EN
X-WR-CALNAME:Events items teaser
X-WR-TIMEZONE:America/Toronto
BEGIN:VTIMEZONE
TZID:America/Toronto
X-LIC-LOCATION:America/Toronto
BEGIN:DAYLIGHT
TZNAME:EDT
TZOFFSETFROM:-0500
TZOFFSETTO:-0400
DTSTART:20250309T070000
END:DAYLIGHT
BEGIN:STANDARD
TZNAME:EST
TZOFFSETFROM:-0400
TZOFFSETTO:-0500
DTSTART:20241103T060000
END:STANDARD
END:VTIMEZONE
BEGIN:VEVENT
UID:69e37adcb0262
DTSTART;TZID=America/Toronto:20250722T120000
SEQUENCE:0
TRANSP:TRANSPARENT
DTEND;TZID=America/Toronto:20250722T130000
URL:https://uwaterloo.ca/welcome-warriors/events/first-year-virtual-speed-f
 riending
SUMMARY:First-year virtual speed friending
CLASS:PUBLIC
DESCRIPTION:Meet other students\, chat and spark new friendships ahead of y
 our\nfirst year at Waterloo. Register in Portal\n[https://portal.uwaterloo
 .ca/events/e1554/registration].
DTSTAMP:20260418T123644Z
END:VEVENT
BEGIN:VEVENT
UID:69e37adcb3027
DTSTART;TZID=America/Toronto:20250812T170000
SEQUENCE:0
TRANSP:TRANSPARENT
DTEND;TZID=America/Toronto:20250812T180000
URL:https://uwaterloo.ca/welcome-warriors/events/first-year-virtual-speed-f
 riending
SUMMARY:First-year virtual speed friending
CLASS:PUBLIC
DESCRIPTION:Meet other students\, chat and spark new friendships ahead of y
 our\nfirst year at Waterloo. Register in Portal\n[https://portal.uwaterloo
 .ca/events/e1554/registration].
DTSTAMP:20260418T123644Z
END:VEVENT
END:VCALENDAR