BEGIN:VCALENDAR
VERSION:2.0
PRODID:-//Drupal iCal API//EN
X-WR-CALNAME:Events items teaser
X-WR-TIMEZONE:America/Toronto
BEGIN:VTIMEZONE
TZID:America/Toronto
X-LIC-LOCATION:America/Toronto
BEGIN:DAYLIGHT
TZNAME:EDT
TZOFFSETFROM:-0500
TZOFFSETTO:-0400
DTSTART:20250309T070000
END:DAYLIGHT
BEGIN:STANDARD
TZNAME:EST
TZOFFSETFROM:-0400
TZOFFSETTO:-0500
DTSTART:20241103T060000
END:STANDARD
END:VTIMEZONE
BEGIN:VEVENT
UID:69e399504944b
DTSTART;TZID=America/Toronto:20250730T110000
SEQUENCE:0
TRANSP:TRANSPARENT
DTEND;TZID=America/Toronto:20250730T120000
URL:https://uwaterloo.ca/welcome-warriors/events/get-career-and-co-op-ready
SUMMARY:Get Career and Co-op Ready
CLASS:PUBLIC
DESCRIPTION:Learn about what you can do now to prepare for your first co-op
  work\nterm. Register in Portal\n[https://portal.uwaterloo.ca/events/e1554
 /registration].
DTSTAMP:20260418T144640Z
END:VEVENT
END:VCALENDAR