BEGIN:VCALENDAR
VERSION:2.0
PRODID:-//Drupal iCal API//EN
X-WR-CALNAME:Events items teaser
X-WR-TIMEZONE:America/Toronto
BEGIN:VTIMEZONE
TZID:America/Toronto
X-LIC-LOCATION:America/Toronto
BEGIN:DAYLIGHT
TZNAME:EDT
TZOFFSETFROM:-0500
TZOFFSETTO:-0400
DTSTART:20170312T070000
END:DAYLIGHT
BEGIN:STANDARD
TZNAME:EST
TZOFFSETFROM:-0400
TZOFFSETTO:-0500
DTSTART:20171105T060000
END:STANDARD
END:VTIMEZONE
BEGIN:VEVENT
UID:69dbdf0be782e
DTSTART;TZID=America/Toronto:20171115T123000
SEQUENCE:0
TRANSP:TRANSPARENT
DTEND;TZID=America/Toronto:20171115T123000
URL:https://uwaterloo.ca/witer-learning-resource-centre/events/tri-agency-o
 pen-access-policy-authors-rights-depositing
LOCATION:Witer Learning Resource Centre 200 Columbia Street West OPT Room 2
 101 Waterloo ON N2L 3G1 Canada
SUMMARY:The Tri-agency Open Access policy - from author's rights to deposit
 ing\nin UWSpace
CLASS:PUBLIC
DESCRIPTION:REGISTER [https://leads.uwaterloo.ca/Event/Details/4741]\n\nThi
 s workshop will review the Tri-agency (CIHR\, NSERC &amp; SSHRC) Open\nAccess
  policy on publications\n[http://www.science.gc.ca/eic/site/063.nsf/eng/h_
 F6765465.html?OpenDocument]\,\nwhich applies to all NSERC or SSHRC grants 
 awarded on or after May 1\,\n2015\, and CIHR grants awarded on or after Ja
 nuary 1\, 2008. The\nsession will cover:
DTSTAMP:20260412T180603Z
END:VEVENT
END:VCALENDAR