BEGIN:VCALENDAR
VERSION:2.0
PRODID:-//Drupal iCal API//EN
X-WR-CALNAME:Events items teaser
X-WR-TIMEZONE:America/Toronto
BEGIN:VTIMEZONE
TZID:America/Toronto
X-LIC-LOCATION:America/Toronto
BEGIN:DAYLIGHT
TZNAME:EDT
TZOFFSETFROM:-0500
TZOFFSETTO:-0400
DTSTART:20180311T070000
END:DAYLIGHT
BEGIN:STANDARD
TZNAME:EST
TZOFFSETFROM:-0400
TZOFFSETTO:-0500
DTSTART:20171105T060000
END:STANDARD
END:VTIMEZONE
BEGIN:VEVENT
UID:69dc1414b54bb
DTSTART;TZID=America/Toronto:20180516T123000
SEQUENCE:0
TRANSP:TRANSPARENT
DTEND;TZID=America/Toronto:20180516T133000
URL:https://uwaterloo.ca/witer-learning-resource-centre/events/wlrc-module-
 1-wlrc-graduate-orientation-1
LOCATION:OPT - Optometry Building 200 Columbia Street West WLRC OPT 2101 Wa
 terloo ON N2L 3G1 Canada
SUMMARY:WLRC Module 1: WLRC Graduate Orientation
CLASS:PUBLIC
DESCRIPTION:This session is designed to get Optometry and Vision Science Ma
 sters\nand PhD. students' research off to the races. You will become\naqua
 inted with the Witer Learning Resource Centre\, it's awesome staff\,\nas w
 ell as the information\, research\, and learning resources available\nto y
 ou.
DTSTAMP:20260412T215220Z
END:VEVENT
END:VCALENDAR