BEGIN:VCALENDAR
VERSION:2.0
PRODID:-//Drupal iCal API//EN
X-WR-CALNAME:Events items teaser
X-WR-TIMEZONE:America/Toronto
BEGIN:VTIMEZONE
TZID:America/Toronto
X-LIC-LOCATION:America/Toronto
BEGIN:DAYLIGHT
TZNAME:EDT
TZOFFSETFROM:-0500
TZOFFSETTO:-0400
DTSTART:20190310T070000
END:DAYLIGHT
BEGIN:STANDARD
TZNAME:EST
TZOFFSETFROM:-0400
TZOFFSETTO:-0500
DTSTART:20181104T060000
END:STANDARD
END:VTIMEZONE
BEGIN:VEVENT
UID:69dc141444959
DTSTART;TZID=America/Toronto:20190613T133000
SEQUENCE:0
TRANSP:TRANSPARENT
DTEND;TZID=America/Toronto:20190613T143000
URL:https://uwaterloo.ca/witer-learning-resource-centre/events/orcid-id-wor
 kshop-june-13th-2019-130-pm
SUMMARY:ORCID iD Workshop June 13th 2019 1:30 PM
CLASS:PUBLIC
DESCRIPTION:In this workshop\, attendees will sign-up for an Orcid iD and p
 opulate\ntheir Orcid accounts. Existing Orcid users will update their acco
 unts.
DTSTAMP:20260412T215220Z
END:VEVENT
END:VCALENDAR