BEGIN:VCALENDAR
VERSION:2.0
PRODID:-//Drupal iCal API//EN
X-WR-CALNAME:Events items teaser
X-WR-TIMEZONE:America/Toronto
BEGIN:VTIMEZONE
TZID:America/Toronto
X-LIC-LOCATION:America/Toronto
BEGIN:DAYLIGHT
TZNAME:EDT
TZOFFSETFROM:-0500
TZOFFSETTO:-0400
DTSTART:20190310T070000
END:DAYLIGHT
BEGIN:STANDARD
TZNAME:EST
TZOFFSETFROM:-0400
TZOFFSETTO:-0500
DTSTART:20181104T060000
END:STANDARD
END:VTIMEZONE
BEGIN:VEVENT
UID:69dbdf0b3a84d
DTSTART;TZID=America/Toronto:20190625T130000
SEQUENCE:0
TRANSP:TRANSPARENT
DTEND;TZID=America/Toronto:20190625T150000
URL:https://uwaterloo.ca/witer-learning-resource-centre/events/seminar-seri
 es-programming-vision-research-matlab-and-python
LOCATION:OPT - Optometry Building 200 Columbia Street West OPT 2101 (WLRC) 
 Waterloo ON N2L 3G1 Canada
SUMMARY:Seminar Series: Programming for Vision Research with Matlab and Pyt
 hon
CLASS:PUBLIC
DESCRIPTION:Seminar Series Description: The ability to program is increasin
 gly\nimportant to the field of vision science. Programming experiments in\
 nMatlab or Python allows the researcher incredible flexibility to\ncreate 
 the exact stimulus and analysis protocol desired. In this\nseries\, we wil
 l provide a solid foundation and entry-point for\nresearchers to start usi
 ng programming to enhance their research.
DTSTAMP:20260412T180603Z
END:VEVENT
END:VCALENDAR