BEGIN:VCALENDAR
VERSION:2.0
PRODID:-//Drupal iCal API//EN
X-WR-CALNAME:Events items teaser
X-WR-TIMEZONE:America/Toronto
BEGIN:VTIMEZONE
TZID:America/Toronto
X-LIC-LOCATION:America/Toronto
BEGIN:DAYLIGHT
TZNAME:EDT
TZOFFSETFROM:-0500
TZOFFSETTO:-0400
DTSTART:20200308T070000
END:DAYLIGHT
BEGIN:STANDARD
TZNAME:EST
TZOFFSETFROM:-0400
TZOFFSETTO:-0500
DTSTART:20191103T060000
END:STANDARD
END:VTIMEZONE
BEGIN:VEVENT
UID:69bd67782bfff
DTSTART;TZID=America/Toronto:20200623T100000
SEQUENCE:0
TRANSP:TRANSPARENT
DTEND;TZID=America/Toronto:20200623T110000
URL:https://uwaterloo.ca/work-learn-institute/events/webinar-future-proofin
 g-your-organization-covid-19-world
SUMMARY:Webinar: Future-proofing your organization in a COVID-19 world
CLASS:PUBLIC
DESCRIPTION:A new generation of talent is about to graduate university and 
 enter\nthe workforce in the midst of a global pandemic. This is\na cr
 itical time to consider how you can strengthen and\n“future-proof” y
 our talent pipeline (and through this\, your\norganization as a whole).
DTSTAMP:20260320T152752Z
END:VEVENT
END:VCALENDAR